BEGIN:VCALENDAR
VERSION:2.0
PRODID:-//Centerville-Washington Park District - ECPv6.0.12//NONSGML v1.0//EN
CALSCALE:GREGORIAN
METHOD:PUBLISH
X-WR-CALNAME:Centerville-Washington Park District
X-ORIGINAL-URL:https://cwpd.org
X-WR-CALDESC:Events for Centerville-Washington Park District
REFRESH-INTERVAL;VALUE=DURATION:PT1H
X-Robots-Tag:noindex
X-PUBLISHED-TTL:PT1H
BEGIN:VTIMEZONE
TZID:America/New_York
BEGIN:DAYLIGHT
TZOFFSETFROM:-0500
TZOFFSETTO:-0400
TZNAME:EDT
DTSTART:20260308T070000
END:DAYLIGHT
BEGIN:STANDARD
TZOFFSETFROM:-0400
TZOFFSETTO:-0500
TZNAME:EST
DTSTART:20261101T060000
END:STANDARD
END:VTIMEZONE
BEGIN:VEVENT
DTSTART;TZID=America/New_York:20260622T090000
DTEND;TZID=America/New_York:20260622T120000
DTSTAMP:20260422T010941
CREATED:20260211T201931Z
LAST-MODIFIED:20260211T201931Z
UID:29958-1782118800-1782129600@cwpd.org
SUMMARY:ACtivity Squad Camp Week 4
DESCRIPTION:The Amazing Race: Challenge Accepted\nAges 9 – 13 \n  \nMonday\, June 22 – Friday\, June 26 \n  \nLet’s stay active and healthy\, all while trying new outdoor activities! We’ll learn neat nature education topics along the way! Each week has different themes and activities. We have a variety of teamwork-based games and activities ready for you\, should you accept the challenge. Our fan-favorite camp version of The Amazing Race is back! Make sure your shoes are tied and gear is packed\, because the clock starts now! \n  \nRegistration deadline: Monday\, June 15
URL:https://cwpd.org/event/activity-squad-camp-week-4/
LOCATION:Activity Center Park\, 221 N. Main St.\, Centerville\, OH\, 45459\, United States
CATEGORIES:Homepage
ATTACH;FMTTYPE=image/jpeg:https://cwpd.org/wp-content/uploads/2024/02/activitysquad_120x120-jpg.webp
END:VEVENT
END:VCALENDAR