BEGIN:VCALENDAR
VERSION:2.0
PRODID:-//Centerville-Washington Park District - ECPv6.0.12//NONSGML v1.0//EN
CALSCALE:GREGORIAN
METHOD:PUBLISH
X-WR-CALNAME:Centerville-Washington Park District
X-ORIGINAL-URL:https://cwpd.org
X-WR-CALDESC:Events for Centerville-Washington Park District
REFRESH-INTERVAL;VALUE=DURATION:PT1H
X-Robots-Tag:noindex
X-PUBLISHED-TTL:PT1H
BEGIN:VTIMEZONE
TZID:America/New_York
BEGIN:DAYLIGHT
TZOFFSETFROM:-0500
TZOFFSETTO:-0400
TZNAME:EDT
DTSTART:20250309T070000
END:DAYLIGHT
BEGIN:STANDARD
TZOFFSETFROM:-0400
TZOFFSETTO:-0500
TZNAME:EST
DTSTART:20251102T060000
END:STANDARD
END:VTIMEZONE
BEGIN:VEVENT
DTSTART;TZID=America/New_York:20250714T130000
DTEND;TZID=America/New_York:20250716T160000
DTSTAMP:20260425T180855
CREATED:20250318T200232Z
LAST-MODIFIED:20250706T160859Z
UID:27612-1752498000-1752681600@cwpd.org
SUMMARY:Archery Adventures Camp A (ages 12-15)
DESCRIPTION:Ages 12 – 15 \n  \nArchery and nature education combined! Campers will learn the basics of archery\, play water games\, learn about local wildlife\, play archery tag and practice with 3D targets. \n  \nRegistration deadline: Monday\, July 7
URL:https://cwpd.org/event/archery-adventures-camp-a-ages-12-15/
LOCATION:Oak Grove Park\, 1790 E. Social Row Rd.\, Centerville\, OH\, 45458\, United States
ATTACH;FMTTYPE=image/jpeg:https://cwpd.org/wp-content/uploads/2020/07/120x120_archery.jpg
END:VEVENT
END:VCALENDAR