BEGIN:VCALENDAR
VERSION:2.0
PRODID:-//Centerville-Washington Park District - ECPv6.0.12//NONSGML v1.0//EN
CALSCALE:GREGORIAN
METHOD:PUBLISH
X-WR-CALNAME:Centerville-Washington Park District
X-ORIGINAL-URL:https://cwpd.org
X-WR-CALDESC:Events for Centerville-Washington Park District
REFRESH-INTERVAL;VALUE=DURATION:PT1H
X-Robots-Tag:noindex
X-PUBLISHED-TTL:PT1H
BEGIN:VTIMEZONE
TZID:America/New_York
BEGIN:DAYLIGHT
TZOFFSETFROM:-0500
TZOFFSETTO:-0400
TZNAME:EDT
DTSTART:20250309T070000
END:DAYLIGHT
BEGIN:STANDARD
TZOFFSETFROM:-0400
TZOFFSETTO:-0500
TZNAME:EST
DTSTART:20251102T060000
END:STANDARD
END:VTIMEZONE
BEGIN:VEVENT
DTSTART;TZID=America/New_York:20251007T160000
DTEND;TZID=America/New_York:20251007T171500
DTSTAMP:20260425T071858
CREATED:20250728T134055Z
LAST-MODIFIED:20250930T151715Z
UID:28602-1759852800-1759857300@cwpd.org
SUMMARY:Art & Imagination: October
DESCRIPTION:Ages 6 – 8 \n  \nThis drop-off program is designed to give your child the opportunity to get creative! They will design a variety of projects based on a monthly theme. Outdoor activities will be included when weather permits. Sign up for one or multiple sessions. \n  \nRegistration deadline: Tuesday\, September 30
URL:https://cwpd.org/event/art-imagination-october/
LOCATION:Activity Center Park\, 221 N. Main St.\, Centerville\, OH\, 45459\, United States
ATTACH;FMTTYPE=image/jpeg:https://cwpd.org/wp-content/uploads/artandimagination_120x120.jpg
END:VEVENT
END:VCALENDAR