BEGIN:VCALENDAR
VERSION:2.0
PRODID:-//Centerville-Washington Park District - ECPv6.0.12//NONSGML v1.0//EN
CALSCALE:GREGORIAN
METHOD:PUBLISH
X-WR-CALNAME:Centerville-Washington Park District
X-ORIGINAL-URL:https://cwpd.org
X-WR-CALDESC:Events for Centerville-Washington Park District
REFRESH-INTERVAL;VALUE=DURATION:PT1H
X-Robots-Tag:noindex
X-PUBLISHED-TTL:PT1H
BEGIN:VTIMEZONE
TZID:America/New_York
BEGIN:DAYLIGHT
TZOFFSETFROM:-0500
TZOFFSETTO:-0400
TZNAME:EDT
DTSTART:20250309T070000
END:DAYLIGHT
BEGIN:STANDARD
TZOFFSETFROM:-0400
TZOFFSETTO:-0500
TZNAME:EST
DTSTART:20251102T060000
END:STANDARD
END:VTIMEZONE
BEGIN:VEVENT
DTSTART;TZID=America/New_York:20250626T180000
DTEND;TZID=America/New_York:20250626T193000
DTSTAMP:20260425T212835
CREATED:20250428T190028Z
LAST-MODIFIED:20250616T131126Z
UID:27961-1750960800-1750966200@cwpd.org
SUMMARY:Beaded Suncatchers
DESCRIPTION:Ages 14 and up \n  \nBring the sunshine inside with a sparkly\, nature-themed suncatcher. We will be learning the basics of making wire and bead suncatchers. Make one of three sample projects. No previous experience is necessary. \n  \nRegistration deadline: Thursday\, June 19
URL:https://cwpd.org/event/beaded-suncatchers/
LOCATION:Grant Park\, Kennard Nature Nook\, 6588 McEwen Rd.\, Centerville\, OH\, 45459\, United States
END:VEVENT
END:VCALENDAR