BEGIN:VCALENDAR
VERSION:2.0
PRODID:-//Centerville-Washington Park District - ECPv6.0.12//NONSGML v1.0//EN
CALSCALE:GREGORIAN
METHOD:PUBLISH
X-WR-CALNAME:Centerville-Washington Park District
X-ORIGINAL-URL:https://cwpd.org
X-WR-CALDESC:Events for Centerville-Washington Park District
REFRESH-INTERVAL;VALUE=DURATION:PT1H
X-Robots-Tag:noindex
X-PUBLISHED-TTL:PT1H
BEGIN:VTIMEZONE
TZID:America/New_York
BEGIN:DAYLIGHT
TZOFFSETFROM:-0500
TZOFFSETTO:-0400
TZNAME:EDT
DTSTART:20250309T070000
END:DAYLIGHT
BEGIN:STANDARD
TZOFFSETFROM:-0400
TZOFFSETTO:-0500
TZNAME:EST
DTSTART:20251102T060000
END:STANDARD
END:VTIMEZONE
BEGIN:VEVENT
DTSTART;TZID=America/New_York:20250722T161500
DTEND;TZID=America/New_York:20250722T174500
DTSTAMP:20260425T163252
CREATED:20250428T195050Z
LAST-MODIFIED:20250728T130515Z
UID:28052-1753200900-1753206300@cwpd.org
SUMMARY:Beginner Pickleball Lessons - Session B
DESCRIPTION:Ages 18 and up\nUPDATED: Tuesdays\, July 22 – August 26\n(No class August 5 or 12) \n  \nJoin Certified Pickleball Trainer James Lawson to develop the introductory skills to level up your pickleball game. This 4-week lesson is designed for the beginner player looking to develop basic skills to move up to a more competitive level of play. This program will move indoors for adapted lessons in inclement weather. \n  \nRegistration deadline: Friday\, July 18
URL:https://cwpd.org/event/beginner-pickleball-lessons-session-b/
LOCATION:Activity Center Park\, 221 N. Main St.\, Centerville\, OH\, 45459\, United States
ATTACH;FMTTYPE=image/jpeg:https://cwpd.org/wp-content/uploads/pickleball_120x120.jpg
END:VEVENT
END:VCALENDAR