BEGIN:VCALENDAR
VERSION:2.0
PRODID:-//Centerville-Washington Park District - ECPv6.0.12//NONSGML v1.0//EN
CALSCALE:GREGORIAN
METHOD:PUBLISH
X-WR-CALNAME:Centerville-Washington Park District
X-ORIGINAL-URL:https://cwpd.org
X-WR-CALDESC:Events for Centerville-Washington Park District
REFRESH-INTERVAL;VALUE=DURATION:PT1H
X-Robots-Tag:noindex
X-PUBLISHED-TTL:PT1H
BEGIN:VTIMEZONE
TZID:America/New_York
BEGIN:DAYLIGHT
TZOFFSETFROM:-0500
TZOFFSETTO:-0400
TZNAME:EDT
DTSTART:20260308T070000
END:DAYLIGHT
BEGIN:STANDARD
TZOFFSETFROM:-0400
TZOFFSETTO:-0500
TZNAME:EST
DTSTART:20261101T060000
END:STANDARD
END:VTIMEZONE
BEGIN:VEVENT
DTSTART;TZID=America/New_York:20260106T183000
DTEND;TZID=America/New_York:20260106T203000
DTSTAMP:20260424T212612
CREATED:20251103T180304Z
LAST-MODIFIED:20260102T133956Z
UID:29200-1767724200-1767731400@cwpd.org
SUMMARY:Beyond Recycling: How to Live Zero Waste
DESCRIPTION:Ages 18 and up \n  \nLocal Master Recycler and Zero-Waste Expert Mike Fanelli will take you through how to go from recycling pro to zero waste. From using local resources to expand your ability to recycle and compost\, to changing your mindset about how and what you buy\, you’ll walk away with tips and tricks to take your household one step further into the world of zero waste! \n  \nRegistration deadline: Thursday\, January 1
URL:https://cwpd.org/event/beyond-recycling-how-to-live-zero-waste/
LOCATION:Grant Park\, Kennard Nature Nook\, 6588 McEwen Rd.\, Centerville\, OH\, 45459\, United States
ATTACH;FMTTYPE=image/jpeg:https://cwpd.org/wp-content/uploads/2025/10/zerowaste_120x120.jpg
END:VEVENT
END:VCALENDAR