BEGIN:VCALENDAR
VERSION:2.0
PRODID:-//Centerville-Washington Park District - ECPv6.0.12//NONSGML v1.0//EN
CALSCALE:GREGORIAN
METHOD:PUBLISH
X-WR-CALNAME:Centerville-Washington Park District
X-ORIGINAL-URL:https://cwpd.org
X-WR-CALDESC:Events for Centerville-Washington Park District
REFRESH-INTERVAL;VALUE=DURATION:PT1H
X-Robots-Tag:noindex
X-PUBLISHED-TTL:PT1H
BEGIN:VTIMEZONE
TZID:America/New_York
BEGIN:DAYLIGHT
TZOFFSETFROM:-0500
TZOFFSETTO:-0400
TZNAME:EDT
DTSTART:20250309T070000
END:DAYLIGHT
BEGIN:STANDARD
TZOFFSETFROM:-0400
TZOFFSETTO:-0500
TZNAME:EST
DTSTART:20251102T060000
END:STANDARD
END:VTIMEZONE
BEGIN:VEVENT
DTSTART;TZID=America/New_York:20250807T090000
DTEND;TZID=America/New_York:20250807T103000
DTSTAMP:20260425T145746
CREATED:20250430T155630Z
LAST-MODIFIED:20250806T131049Z
UID:28103-1754557200-1754562600@cwpd.org
SUMMARY:Bike Centerville Community Ride D
DESCRIPTION:Ages 18 and up \n  \nTake advantage of this opportunity to explore Centerville and Washington Township by bicycle. The ride will be led by trained and experienced bike leaders and will help you learn routes to shopping\, parks and more! Rides will be an easy-paced 10 to 15 miles that start and end at a park. \n  \nRegistration deadline: Tuesday\, August 5
URL:https://cwpd.org/event/bike-centerville-community-ride-d/
LOCATION:Big Bend Park\, 1328 Spring Ash Drive\, Centerville\, OH\, 45459\, United States
ATTACH;FMTTYPE=image/jpeg:https://cwpd.org/wp-content/uploads/bike_120x120.jpg
END:VEVENT
END:VCALENDAR