BEGIN:VCALENDAR
VERSION:2.0
PRODID:-//Centerville-Washington Park District - ECPv6.0.12//NONSGML v1.0//EN
CALSCALE:GREGORIAN
METHOD:PUBLISH
X-WR-CALNAME:Centerville-Washington Park District
X-ORIGINAL-URL:https://cwpd.org
X-WR-CALDESC:Events for Centerville-Washington Park District
REFRESH-INTERVAL;VALUE=DURATION:PT1H
X-Robots-Tag:noindex
X-PUBLISHED-TTL:PT1H
BEGIN:VTIMEZONE
TZID:America/New_York
BEGIN:DAYLIGHT
TZOFFSETFROM:-0500
TZOFFSETTO:-0400
TZNAME:EDT
DTSTART:20250309T070000
END:DAYLIGHT
BEGIN:STANDARD
TZOFFSETFROM:-0400
TZOFFSETTO:-0500
TZNAME:EST
DTSTART:20251102T060000
END:STANDARD
END:VTIMEZONE
BEGIN:VEVENT
DTSTART;TZID=America/New_York:20250625T173000
DTEND;TZID=America/New_York:20250625T193000
DTSTAMP:20260425T212835
CREATED:20250428T143104Z
LAST-MODIFIED:20250627T150927Z
UID:27957-1750872600-1750879800@cwpd.org
SUMMARY:Conservation Crew: Bird Survey
DESCRIPTION:Ages 12 – 18 \n  \nWe want to know what bird species are common along Bill Yeck Park’s Brown Trail. We will count all the birds we see and hear along the path. If you have binoculars\, bring them. A limited supply will be available to borrow. \n  \nRegistration deadline: Monday\, June 23
URL:https://cwpd.org/event/conservation-crew-bird-survey/
LOCATION:Bill Yeck Park\, Rooks Mill Entrance\, 8798 Rooks Mill Ln\, Dayton\, OH\, 45458\, United States
ATTACH;FMTTYPE=image/jpeg:https://cwpd.org/wp-content/uploads/2020/01/Belted_Kingfisher_Western_Washington_State_04.jpg
END:VEVENT
END:VCALENDAR