BEGIN:VCALENDAR
VERSION:2.0
PRODID:-//Centerville-Washington Park District - ECPv6.0.12//NONSGML v1.0//EN
CALSCALE:GREGORIAN
METHOD:PUBLISH
X-WR-CALNAME:Centerville-Washington Park District
X-ORIGINAL-URL:https://cwpd.org
X-WR-CALDESC:Events for Centerville-Washington Park District
REFRESH-INTERVAL;VALUE=DURATION:PT1H
X-Robots-Tag:noindex
X-PUBLISHED-TTL:PT1H
BEGIN:VTIMEZONE
TZID:America/New_York
BEGIN:DAYLIGHT
TZOFFSETFROM:-0500
TZOFFSETTO:-0400
TZNAME:EDT
DTSTART:20250309T070000
END:DAYLIGHT
BEGIN:STANDARD
TZOFFSETFROM:-0400
TZOFFSETTO:-0500
TZNAME:EST
DTSTART:20251102T060000
END:STANDARD
END:VTIMEZONE
BEGIN:VEVENT
DTSTART;TZID=America/New_York:20250729T180000
DTEND;TZID=America/New_York:20250729T200000
DTSTAMP:20260425T163410
CREATED:20250428T143157Z
LAST-MODIFIED:20250727T182824Z
UID:28076-1753812000-1753819200@cwpd.org
SUMMARY:Conservation Crew: Invasive Plant Control
DESCRIPTION:Ages 12 – 18 \n  \nThe Conservation Crew will take charge of a native wildflower meadow\, removing invasive plants to promote pollinator habitat. If you have work gloves\, please bring them. We will have some on hand to borrow. \n  \nRegistration deadline: Sunday\, July 27
URL:https://cwpd.org/event/conservation-crew-invasive-plant-control/
LOCATION:Forest Field Park\, 2100 E. Centerville Station Rd.\, Centerville\, OH\, 45459\, United States
ATTACH;FMTTYPE=image/jpeg:https://cwpd.org/wp-content/uploads/conservation_120x120.jpg
END:VEVENT
END:VCALENDAR