BEGIN:VCALENDAR
VERSION:2.0
PRODID:-//Centerville-Washington Park District - ECPv6.0.12//NONSGML v1.0//EN
CALSCALE:GREGORIAN
METHOD:PUBLISH
X-WR-CALNAME:Centerville-Washington Park District
X-ORIGINAL-URL:https://cwpd.org
X-WR-CALDESC:Events for Centerville-Washington Park District
REFRESH-INTERVAL;VALUE=DURATION:PT1H
X-Robots-Tag:noindex
X-PUBLISHED-TTL:PT1H
BEGIN:VTIMEZONE
TZID:America/New_York
BEGIN:DAYLIGHT
TZOFFSETFROM:-0500
TZOFFSETTO:-0400
TZNAME:EDT
DTSTART:20250309T070000
END:DAYLIGHT
BEGIN:STANDARD
TZOFFSETFROM:-0400
TZOFFSETTO:-0500
TZNAME:EST
DTSTART:20251102T060000
END:STANDARD
END:VTIMEZONE
BEGIN:VEVENT
DTSTART;TZID=America/New_York:20250904T180000
DTEND;TZID=America/New_York:20250904T200000
DTSTAMP:20260425T114630
CREATED:20250728T143510Z
LAST-MODIFIED:20250903T150020Z
UID:28453-1757008800-1757016000@cwpd.org
SUMMARY:Conservation Crew: Tree Mapping
DESCRIPTION:Ages 12 – 18\nThursday\, September 4 \n  \nPut your tree ID and measuring skills to the test! We will be entering trees into our database using tablets at Forest Field Park—no experience is needed. \n  \nRegistration deadline: Tuesday\, September 2
URL:https://cwpd.org/event/conservation-crew-tree-mapping-2/
LOCATION:Forest Field Park\, 2100 E. Centerville Station Rd.\, Centerville\, OH\, 45459\, United States
ATTACH;FMTTYPE=image/jpeg:https://cwpd.org/wp-content/uploads/conservation_120x120.jpg
END:VEVENT
END:VCALENDAR