BEGIN:VCALENDAR
VERSION:2.0
PRODID:-//Centerville-Washington Park District - ECPv6.0.12//NONSGML v1.0//EN
CALSCALE:GREGORIAN
METHOD:PUBLISH
X-WR-CALNAME:Centerville-Washington Park District
X-ORIGINAL-URL:https://cwpd.org
X-WR-CALDESC:Events for Centerville-Washington Park District
REFRESH-INTERVAL;VALUE=DURATION:PT1H
X-Robots-Tag:noindex
X-PUBLISHED-TTL:PT1H
BEGIN:VTIMEZONE
TZID:America/New_York
BEGIN:DAYLIGHT
TZOFFSETFROM:-0500
TZOFFSETTO:-0400
TZNAME:EDT
DTSTART:20250309T070000
END:DAYLIGHT
BEGIN:STANDARD
TZOFFSETFROM:-0400
TZOFFSETTO:-0500
TZNAME:EST
DTSTART:20251102T060000
END:STANDARD
END:VTIMEZONE
BEGIN:VEVENT
DTSTART;TZID=America/New_York:20250711T093000
DTEND;TZID=America/New_York:20250711T103000
DTSTAMP:20260425T195128
CREATED:20250425T184854Z
LAST-MODIFIED:20250705T214342Z
UID:28016-1752226200-1752229800@cwpd.org
SUMMARY:Cool Off Crafts
DESCRIPTION:Recommended for ages 3 – 7 with parent/guardian \n  \nSensory experiences with coloring ice and making your own ice cream craft in the shade are fun ways to cool off\, but if that doesn’t do it\, grab a free ice pop before playing on the playground! \n  \nRegistration deadline: Sunday\, July 6
URL:https://cwpd.org/event/cool-off-crafts/
LOCATION:Schoolhouse Park\, 1875 Nutt Rd.\, Dayton\, OH\, 45458\, United States
ATTACH;FMTTYPE=image/jpeg:https://cwpd.org/wp-content/uploads/2025/04/CoolOffCraft_120x120.jpg
END:VEVENT
END:VCALENDAR