BEGIN:VCALENDAR
VERSION:2.0
PRODID:-//Centerville-Washington Park District - ECPv6.0.12//NONSGML v1.0//EN
CALSCALE:GREGORIAN
METHOD:PUBLISH
X-WR-CALNAME:Centerville-Washington Park District
X-ORIGINAL-URL:https://cwpd.org
X-WR-CALDESC:Events for Centerville-Washington Park District
REFRESH-INTERVAL;VALUE=DURATION:PT1H
X-Robots-Tag:noindex
X-PUBLISHED-TTL:PT1H
BEGIN:VTIMEZONE
TZID:America/New_York
BEGIN:DAYLIGHT
TZOFFSETFROM:-0500
TZOFFSETTO:-0400
TZNAME:EDT
DTSTART:20260308T070000
END:DAYLIGHT
BEGIN:STANDARD
TZOFFSETFROM:-0400
TZOFFSETTO:-0500
TZNAME:EST
DTSTART:20261101T060000
END:STANDARD
END:VTIMEZONE
BEGIN:VEVENT
DTSTART;TZID=America/New_York:20260113T100000
DTEND;TZID=America/New_York:20260113T110000
DTSTAMP:20260424T195103
CREATED:20251031T181355Z
LAST-MODIFIED:20260107T115544Z
UID:29218-1768298400-1768302000@cwpd.org
SUMMARY:Crafts with Nature - Colorful Creations!
DESCRIPTION:Ages 18 months – 4 years with adult companion \n  \nLet’s get together and do a nature craft! We will complete crafts with nature/sensory themes\, read stories\, play games and take short hikes in the park — all to spark a love of nature in our youngest community members! The theme for January is ‘Colorful Creations!’. We will learn about colors in nature and make crafts inspired by them. This program will be indoors. \n  \nRegistration deadline: Wednesday\, January 7
URL:https://cwpd.org/event/crafts-with-nature-colorful-creations/
LOCATION:Activity Center Park\, 221 N. Main St.\, Centerville\, OH\, 45459\, United States
ATTACH;FMTTYPE=image/jpeg:https://cwpd.org/wp-content/uploads/2025/10/120x120-crafts-with-nature.jpg
END:VEVENT
END:VCALENDAR