BEGIN:VCALENDAR
VERSION:2.0
PRODID:-//Centerville-Washington Park District - ECPv6.0.12//NONSGML v1.0//EN
CALSCALE:GREGORIAN
METHOD:PUBLISH
X-WR-CALNAME:Centerville-Washington Park District
X-ORIGINAL-URL:https://cwpd.org
X-WR-CALDESC:Events for Centerville-Washington Park District
REFRESH-INTERVAL;VALUE=DURATION:PT1H
X-Robots-Tag:noindex
X-PUBLISHED-TTL:PT1H
BEGIN:VTIMEZONE
TZID:America/New_York
BEGIN:DAYLIGHT
TZOFFSETFROM:-0500
TZOFFSETTO:-0400
TZNAME:EDT
DTSTART:20250309T070000
END:DAYLIGHT
BEGIN:STANDARD
TZOFFSETFROM:-0400
TZOFFSETTO:-0500
TZNAME:EST
DTSTART:20251102T060000
END:STANDARD
END:VTIMEZONE
BEGIN:VEVENT
DTSTART;TZID=America/New_York:20250624T180000
DTEND;TZID=America/New_York:20250624T190000
DTSTAMP:20260425T212222
CREATED:20250425T182051Z
LAST-MODIFIED:20250618T235218Z
UID:27949-1750788000-1750791600@cwpd.org
SUMMARY:Crafts with Nature - Duck\, Duck\, Goose
DESCRIPTION:Ages 18 months – 4 years with adult companion \n  \nWe will complete crafts with nature/sensory themes\, read stories\, play games and take short hikes in the park — all to spark a love of nature in our youngest community members! This program is limited to one adult companion per registrant. If your child is not walking\, backpacks and front carriers are appropriate. Strollers are not recommended for parks with natural terrain. \n  \nRegistration deadline: Wednesday\, June 18
URL:https://cwpd.org/event/crafts-with-nature-duck-duck-goose/
LOCATION:Robert F. Mays Park\, 10553 Paragon Road\, Dayton\, OH\, 45458
ATTACH;FMTTYPE=image/jpeg:https://cwpd.org/wp-content/uploads/2020/03/Preschool-Play-Yard-2.jpg
END:VEVENT
END:VCALENDAR