BEGIN:VCALENDAR
VERSION:2.0
PRODID:-//Centerville-Washington Park District - ECPv6.0.12//NONSGML v1.0//EN
CALSCALE:GREGORIAN
METHOD:PUBLISH
X-WR-CALNAME:Centerville-Washington Park District
X-ORIGINAL-URL:https://cwpd.org
X-WR-CALDESC:Events for Centerville-Washington Park District
REFRESH-INTERVAL;VALUE=DURATION:PT1H
X-Robots-Tag:noindex
X-PUBLISHED-TTL:PT1H
BEGIN:VTIMEZONE
TZID:America/New_York
BEGIN:DAYLIGHT
TZOFFSETFROM:-0500
TZOFFSETTO:-0400
TZNAME:EDT
DTSTART:20250309T070000
END:DAYLIGHT
BEGIN:STANDARD
TZOFFSETFROM:-0400
TZOFFSETTO:-0500
TZNAME:EST
DTSTART:20251102T060000
END:STANDARD
END:VTIMEZONE
BEGIN:VEVENT
DTSTART;TZID=America/New_York:20250722T180000
DTEND;TZID=America/New_York:20250722T190000
DTSTAMP:20260425T163100
CREATED:20250425T182715Z
LAST-MODIFIED:20250716T163941Z
UID:28054-1753207200-1753210800@cwpd.org
SUMMARY:Crafts with Nature - I Love the Earth
DESCRIPTION:Ages 18 months – 4 years with adult companion \n  \nWe will complete crafts with nature/sensory themes\, read stories\, play games and take short hikes in the park. This program is limited to one adult companion per registrant. If your child is not walking\, backpacks and front carriers are appropriate. Strollers are not recommended for parks with natural terrain. \n  \nRegistration deadline: Wednesday\, July 16
URL:https://cwpd.org/event/crafts-with-nature-i-love-the-earth/
LOCATION:Bill Yeck Park\, Smith House\, 2230 E. Centerville Station Road\, Centerville\, OH\, 45459\, United States
ATTACH;FMTTYPE=image/png:https://cwpd.org/wp-content/uploads/2025/01/CreativeCrafting_120x120.png
END:VEVENT
END:VCALENDAR