BEGIN:VCALENDAR
VERSION:2.0
PRODID:-//Centerville-Washington Park District - ECPv6.0.12//NONSGML v1.0//EN
CALSCALE:GREGORIAN
METHOD:PUBLISH
X-WR-CALNAME:Centerville-Washington Park District
X-ORIGINAL-URL:https://cwpd.org
X-WR-CALDESC:Events for Centerville-Washington Park District
REFRESH-INTERVAL;VALUE=DURATION:PT1H
X-Robots-Tag:noindex
X-PUBLISHED-TTL:PT1H
BEGIN:VTIMEZONE
TZID:America/New_York
BEGIN:DAYLIGHT
TZOFFSETFROM:-0500
TZOFFSETTO:-0400
TZNAME:EDT
DTSTART:20260308T070000
END:DAYLIGHT
BEGIN:STANDARD
TZOFFSETFROM:-0400
TZOFFSETTO:-0500
TZNAME:EST
DTSTART:20261101T060000
END:STANDARD
END:VTIMEZONE
BEGIN:VEVENT
DTSTART;TZID=America/New_York:20260108T160000
DTEND;TZID=America/New_York:20260108T171500
DTSTAMP:20260424T194714
CREATED:20251103T151732Z
LAST-MODIFIED:20260102T134040Z
UID:29207-1767888000-1767892500@cwpd.org
SUMMARY:Creative Crafting
DESCRIPTION:Ages 9 – 13 \n  \nTry new art skills during this fun\, nature-themed crafting program. Each session will offer different options for participants to choose from\, allowing them to work independently or get creative together! \n  \nRegistration deadline: Thursday\, January 1
URL:https://cwpd.org/event/creative-crafting-january/
LOCATION:Activity Center Park\, 221 N. Main St.\, Centerville\, OH\, 45459\, United States
ATTACH;FMTTYPE=image/png:https://cwpd.org/wp-content/uploads/2025/01/CreativeCrafting_120x120.png
END:VEVENT
END:VCALENDAR