BEGIN:VCALENDAR
VERSION:2.0
PRODID:-//Centerville-Washington Park District - ECPv6.0.12//NONSGML v1.0//EN
CALSCALE:GREGORIAN
METHOD:PUBLISH
X-WR-CALNAME:Centerville-Washington Park District
X-ORIGINAL-URL:https://cwpd.org
X-WR-CALDESC:Events for Centerville-Washington Park District
REFRESH-INTERVAL;VALUE=DURATION:PT1H
X-Robots-Tag:noindex
X-PUBLISHED-TTL:PT1H
BEGIN:VTIMEZONE
TZID:America/New_York
BEGIN:DAYLIGHT
TZOFFSETFROM:-0500
TZOFFSETTO:-0400
TZNAME:EDT
DTSTART:20250309T070000
END:DAYLIGHT
BEGIN:STANDARD
TZOFFSETFROM:-0400
TZOFFSETTO:-0500
TZNAME:EST
DTSTART:20251102T060000
END:STANDARD
END:VTIMEZONE
BEGIN:VEVENT
DTSTART;TZID=America/New_York:20250802T100000
DTEND;TZID=America/New_York:20250802T113000
DTSTAMP:20260425T163102
CREATED:20250428T160708Z
LAST-MODIFIED:20250801T110344Z
UID:28082-1754128800-1754134200@cwpd.org
SUMMARY:Creek Peek: Beaver Fever!
DESCRIPTION:All ages \n  \nLearn everything about nature’s construction workers! Can we build things as well as a beaver? Come ready to play in the creek! Close-toed shoes are required. This is a Tools to Trek program. \n  \nRegistration deadline: Thursday\, July 31
URL:https://cwpd.org/event/creek-peek-beaver-fever/
LOCATION:Bill Yeck Park\, McGuffey Meadow\, 7893 Wilmington-Dayton Rd.\, Dayton\, OH\, 45458\, United States
ATTACH;FMTTYPE=image/jpeg:https://cwpd.org/wp-content/uploads/beaver_120x120.jpg
END:VEVENT
END:VCALENDAR