BEGIN:VCALENDAR
VERSION:2.0
PRODID:-//Centerville-Washington Park District - ECPv6.0.12//NONSGML v1.0//EN
CALSCALE:GREGORIAN
METHOD:PUBLISH
X-WR-CALNAME:Centerville-Washington Park District
X-ORIGINAL-URL:https://cwpd.org
X-WR-CALDESC:Events for Centerville-Washington Park District
REFRESH-INTERVAL;VALUE=DURATION:PT1H
X-Robots-Tag:noindex
X-PUBLISHED-TTL:PT1H
BEGIN:VTIMEZONE
TZID:America/New_York
BEGIN:DAYLIGHT
TZOFFSETFROM:-0500
TZOFFSETTO:-0400
TZNAME:EDT
DTSTART:20250309T070000
END:DAYLIGHT
BEGIN:STANDARD
TZOFFSETFROM:-0400
TZOFFSETTO:-0500
TZNAME:EST
DTSTART:20251102T060000
END:STANDARD
END:VTIMEZONE
BEGIN:VEVENT
DTSTART;TZID=America/New_York:20250621T100000
DTEND;TZID=America/New_York:20250621T110000
DTSTAMP:20260425T231005
CREATED:20250425T183613Z
LAST-MODIFIED:20250617T131226Z
UID:27939-1750500000-1750503600@cwpd.org
SUMMARY:Critters & Crawlers in the Garden
DESCRIPTION:Ages 3 – 5 with adult companion \n  \nFrom wriggly worms and crawly millipedes\, to buzzing bees and leaping grasshoppers\, the garden is full of critters! At this fun-filled preschool program\, you will get hands-on with the creatures that call gardens home. Read stories\, meet some garden critters\, and go on a BIG backyard bug search! All participants will also get to plant a flower to take home in their very own flower pot! \n  \nRegistration deadline: Monday\, June 16
URL:https://cwpd.org/event/critters-crawlers-in-the-garden-2/
LOCATION:Activity Center Park\, 221 N. Main St.\, Centerville\, OH\, 45459\, United States
ATTACH;FMTTYPE=image/png:https://cwpd.org/wp-content/uploads/2016/07/120x120_grasshopper.png
END:VEVENT
END:VCALENDAR