BEGIN:VCALENDAR
VERSION:2.0
PRODID:-//Centerville-Washington Park District - ECPv6.0.12//NONSGML v1.0//EN
CALSCALE:GREGORIAN
METHOD:PUBLISH
X-WR-CALNAME:Centerville-Washington Park District
X-ORIGINAL-URL:https://cwpd.org
X-WR-CALDESC:Events for Centerville-Washington Park District
REFRESH-INTERVAL;VALUE=DURATION:PT1H
X-Robots-Tag:noindex
X-PUBLISHED-TTL:PT1H
BEGIN:VTIMEZONE
TZID:America/New_York
BEGIN:DAYLIGHT
TZOFFSETFROM:-0500
TZOFFSETTO:-0400
TZNAME:EDT
DTSTART:20250309T070000
END:DAYLIGHT
BEGIN:STANDARD
TZOFFSETFROM:-0400
TZOFFSETTO:-0500
TZNAME:EST
DTSTART:20251102T060000
END:STANDARD
END:VTIMEZONE
BEGIN:VEVENT
DTSTART;TZID=America/New_York:20250904T180000
DTEND;TZID=America/New_York:20250904T190000
DTSTAMP:20260425T115010
CREATED:20250728T154307Z
LAST-MODIFIED:20250903T150016Z
UID:28455-1757008800-1757012400@cwpd.org
SUMMARY:Embroidery Journaling: Stitch the Year with CWPD
DESCRIPTION:Ages 14 and up\nThursdays\, September 4\, October 2 & November 6 \n  \nThis class will take us through the fall months as we create an embroidered journal representing important or special memories with simple stitches and colorful designs. While this program builds off the winter\, spring and summer sessions\, you do not need to have attended these sessions to participate. Some experience with stitching is recommended. Each session will include light refreshments and a nature talk on a seasonal topic. \n  \nRegistration deadline: Wednesday\, September 3
URL:https://cwpd.org/event/embroidery-journaling-stitch-the-year-with-cwpd-4/
LOCATION:Grant Park\, Kennard Nature Nook\, 6588 McEwen Rd.\, Centerville\, OH\, 45459\, United States
ATTACH;FMTTYPE=image/png:https://cwpd.org/wp-content/uploads/2025/01/Embroidery_120x120.png
END:VEVENT
END:VCALENDAR