BEGIN:VCALENDAR
VERSION:2.0
PRODID:-//Centerville-Washington Park District - ECPv6.0.12//NONSGML v1.0//EN
CALSCALE:GREGORIAN
METHOD:PUBLISH
X-WR-CALNAME:Centerville-Washington Park District
X-ORIGINAL-URL:https://cwpd.org
X-WR-CALDESC:Events for Centerville-Washington Park District
REFRESH-INTERVAL;VALUE=DURATION:PT1H
X-Robots-Tag:noindex
X-PUBLISHED-TTL:PT1H
BEGIN:VTIMEZONE
TZID:America/New_York
BEGIN:DAYLIGHT
TZOFFSETFROM:-0500
TZOFFSETTO:-0400
TZNAME:EDT
DTSTART:20260308T070000
END:DAYLIGHT
BEGIN:STANDARD
TZOFFSETFROM:-0400
TZOFFSETTO:-0500
TZNAME:EST
DTSTART:20261101T060000
END:STANDARD
END:VTIMEZONE
BEGIN:VEVENT
DTSTART;TZID=America/New_York:20260116T090000
DTEND;TZID=America/New_York:20260116T160000
DTSTAMP:20260424T194407
CREATED:20251031T160115Z
LAST-MODIFIED:20260109T121823Z
UID:29228-1768554000-1768579200@cwpd.org
SUMMARY:Evergreen Camp
DESCRIPTION:Ages 6 – 12 \n  \nA day off from school means a day of fun and adventures at camp! Your camper will enjoy nature-based activities\, winter hikes\, playground play\, indoor warm-up activities\, games and more! See the beauty of winter at Activity Center Park\, and stay active during this one-day camp. \n  \nRegistration deadline: Friday\, January 9
URL:https://cwpd.org/event/evergreen-camp/
LOCATION:Activity Center Park\, 221 N. Main St.\, Centerville\, OH\, 45459\, United States
ATTACH;FMTTYPE=image/jpeg:https://cwpd.org/wp-content/uploads/2016/11/winter_woods_camp_2019_cwpd.jpg
END:VEVENT
END:VCALENDAR