BEGIN:VCALENDAR
VERSION:2.0
PRODID:-//Centerville-Washington Park District - ECPv6.0.12//NONSGML v1.0//EN
CALSCALE:GREGORIAN
METHOD:PUBLISH
X-WR-CALNAME:Centerville-Washington Park District
X-ORIGINAL-URL:https://cwpd.org
X-WR-CALDESC:Events for Centerville-Washington Park District
REFRESH-INTERVAL;VALUE=DURATION:PT1H
X-Robots-Tag:noindex
X-PUBLISHED-TTL:PT1H
BEGIN:VTIMEZONE
TZID:America/New_York
BEGIN:DAYLIGHT
TZOFFSETFROM:-0500
TZOFFSETTO:-0400
TZNAME:EDT
DTSTART:20250309T070000
END:DAYLIGHT
BEGIN:STANDARD
TZOFFSETFROM:-0400
TZOFFSETTO:-0500
TZNAME:EST
DTSTART:20251102T060000
END:STANDARD
END:VTIMEZONE
BEGIN:VEVENT
DTSTART;TZID=America/New_York:20250904T163000
DTEND;TZID=America/New_York:20250904T180000
DTSTAMP:20260425T132433
CREATED:20250728T141751Z
LAST-MODIFIED:20250829T175626Z
UID:28451-1757003400-1757008800@cwpd.org
SUMMARY:Fall About Archery (Youth)
DESCRIPTION:Ages 8 – 15 \n  \nLet’s dive into the fall season with some archery! Join us for this session to learn the basics of archery\, and play some competitive\, fall-themed games! All equipment is provided and no experience is necessary. This is a drop-off program\, but adults are welcome to stay and observe. \n  \nRegistration deadline: Friday\, August 29
URL:https://cwpd.org/event/fall-about-archery-youth/
LOCATION:Oak Grove Park\, 1790 E. Social Row Rd.\, Centerville\, OH\, 45458\, United States
ATTACH;FMTTYPE=image/png:https://cwpd.org/wp-content/uploads/2022/01/120x120-Beginner-Archery-Clinic.png
END:VEVENT
END:VCALENDAR