BEGIN:VCALENDAR
VERSION:2.0
PRODID:-//Centerville-Washington Park District - ECPv6.0.12//NONSGML v1.0//EN
CALSCALE:GREGORIAN
METHOD:PUBLISH
X-WR-CALNAME:Centerville-Washington Park District
X-ORIGINAL-URL:https://cwpd.org
X-WR-CALDESC:Events for Centerville-Washington Park District
REFRESH-INTERVAL;VALUE=DURATION:PT1H
X-Robots-Tag:noindex
X-PUBLISHED-TTL:PT1H
BEGIN:VTIMEZONE
TZID:America/New_York
BEGIN:DAYLIGHT
TZOFFSETFROM:-0500
TZOFFSETTO:-0400
TZNAME:EDT
DTSTART:20250309T070000
END:DAYLIGHT
BEGIN:STANDARD
TZOFFSETFROM:-0400
TZOFFSETTO:-0500
TZNAME:EST
DTSTART:20251102T060000
END:STANDARD
END:VTIMEZONE
BEGIN:VEVENT
DTSTART;TZID=America/New_York:20250928T130000
DTEND;TZID=America/New_York:20250928T150000
DTSTAMP:20260425T085527
CREATED:20250728T150346Z
LAST-MODIFIED:20250922T124921Z
UID:28571-1759064400-1759071600@cwpd.org
SUMMARY:Family Clay Fairy House Workshop
DESCRIPTION:Recommended for ages 4 and up with parent/guardian participation \n  \nThis fairy house workshop is for the young and young at heart! No previous clay experience is required for this workshop! Each family will receive 2 lbs of clay\, enough to make 2 – 3 small houses or 1 larger house! We will use non-sharp simple tools and hand building\, and paint the houses with glaze the same day! This is not a drop-off program. \n  \nRegistration deadline: Sunday\, September 21
URL:https://cwpd.org/event/family-clay-fairy-house-workshop/
LOCATION:Activity Center Park\, 221 N. Main St.\, Centerville\, OH\, 45459\, United States
ATTACH;FMTTYPE=image/jpeg:https://cwpd.org/wp-content/uploads/2025/07/FamilyClayFairyHouseWorkshop_120x120.jpg
END:VEVENT
END:VCALENDAR