BEGIN:VCALENDAR
VERSION:2.0
PRODID:-//Centerville-Washington Park District - ECPv6.0.12//NONSGML v1.0//EN
CALSCALE:GREGORIAN
METHOD:PUBLISH
X-WR-CALNAME:Centerville-Washington Park District
X-ORIGINAL-URL:https://cwpd.org
X-WR-CALDESC:Events for Centerville-Washington Park District
REFRESH-INTERVAL;VALUE=DURATION:PT1H
X-Robots-Tag:noindex
X-PUBLISHED-TTL:PT1H
BEGIN:VTIMEZONE
TZID:America/New_York
BEGIN:DAYLIGHT
TZOFFSETFROM:-0500
TZOFFSETTO:-0400
TZNAME:EDT
DTSTART:20250309T070000
END:DAYLIGHT
BEGIN:STANDARD
TZOFFSETFROM:-0400
TZOFFSETTO:-0500
TZNAME:EST
DTSTART:20251102T060000
END:STANDARD
END:VTIMEZONE
BEGIN:VEVENT
DTSTART;TZID=America/New_York:20250628T133000
DTEND;TZID=America/New_York:20250628T143000
DTSTAMP:20260425T194711
CREATED:20250428T155657Z
LAST-MODIFIED:20250623T132743Z
UID:27981-1751117400-1751121000@cwpd.org
SUMMARY:Farm Friends Meet and Greet with Learning Tree B
DESCRIPTION:All ages \n  \nMeet some friendly farm animals with Learning Tree Farm! After the 30-minute session with the animals\, families can head out on our paved hiking path for an animal scavenger hunt. The majority of the program will take place outdoors. This is a Tools to Trek program. \n  \nRegistration deadline: Thursday\, June 26
URL:https://cwpd.org/event/farm-friends-meet-and-greet-with-learning-tree-b/
LOCATION:Activity Center Park\, 221 N. Main St.\, Centerville\, OH\, 45459\, United States
ATTACH;FMTTYPE=image/jpeg:https://cwpd.org/wp-content/uploads/2025/04/LearningTreeFarm_120x120.jpg
END:VEVENT
END:VCALENDAR