BEGIN:VCALENDAR
VERSION:2.0
PRODID:-//Centerville-Washington Park District - ECPv6.0.12//NONSGML v1.0//EN
CALSCALE:GREGORIAN
METHOD:PUBLISH
X-WR-CALNAME:Centerville-Washington Park District
X-ORIGINAL-URL:https://cwpd.org
X-WR-CALDESC:Events for Centerville-Washington Park District
REFRESH-INTERVAL;VALUE=DURATION:PT1H
X-Robots-Tag:noindex
X-PUBLISHED-TTL:PT1H
BEGIN:VTIMEZONE
TZID:America/New_York
BEGIN:DAYLIGHT
TZOFFSETFROM:-0500
TZOFFSETTO:-0400
TZNAME:EDT
DTSTART:20250309T070000
END:DAYLIGHT
BEGIN:STANDARD
TZOFFSETFROM:-0400
TZOFFSETTO:-0500
TZNAME:EST
DTSTART:20251102T060000
END:STANDARD
END:VTIMEZONE
BEGIN:VEVENT
DTSTART;TZID=America/New_York:20250613T170000
DTEND;TZID=America/New_York:20250613T183000
DTSTAMP:20260425T230833
CREATED:20250428T182219Z
LAST-MODIFIED:20250514T185824Z
UID:27923-1749834000-1749839400@cwpd.org
SUMMARY:Flower Hammering: Natural Dye Prints
DESCRIPTION:Ages 14 and up \n  \nCreate dynamic process art that preserves stunning summer flower hues. Learn how to decorate a variety of materials with these natural dyes. Make a set of tea towels\, a tote bag or wall art. Participants will use a hammer and physical strength to create their artwork. No experience is needed to participate. \n  \nRegistration deadline: Friday\, June 6
URL:https://cwpd.org/event/flower-hammering-natural-dye-prints/
LOCATION:Grant Park\, Kennard Nature Nook\, 6588 McEwen Rd.\, Centerville\, OH\, 45459\, United States
ATTACH;FMTTYPE=image/jpeg:https://cwpd.org/wp-content/uploads/2025/04/FlowerHammering_120x120.jpg
END:VEVENT
END:VCALENDAR