BEGIN:VCALENDAR
VERSION:2.0
PRODID:-//Centerville-Washington Park District - ECPv6.0.12//NONSGML v1.0//EN
CALSCALE:GREGORIAN
METHOD:PUBLISH
X-WR-CALNAME:Centerville-Washington Park District
X-ORIGINAL-URL:https://cwpd.org
X-WR-CALDESC:Events for Centerville-Washington Park District
REFRESH-INTERVAL;VALUE=DURATION:PT1H
X-Robots-Tag:noindex
X-PUBLISHED-TTL:PT1H
BEGIN:VTIMEZONE
TZID:America/New_York
BEGIN:DAYLIGHT
TZOFFSETFROM:-0500
TZOFFSETTO:-0400
TZNAME:EDT
DTSTART:20260308T070000
END:DAYLIGHT
BEGIN:STANDARD
TZOFFSETFROM:-0400
TZOFFSETTO:-0500
TZNAME:EST
DTSTART:20261101T060000
END:STANDARD
END:VTIMEZONE
BEGIN:VEVENT
DTSTART;TZID=America/New_York:20260622T100000
DTEND;TZID=America/New_York:20260622T120000
DTSTAMP:20260422T011145
CREATED:20260211T204100Z
LAST-MODIFIED:20260211T204100Z
UID:29970-1782122400-1782129600@cwpd.org
SUMMARY:Garden to Table Cooking Camp
DESCRIPTION:Ages 12 – 17 \n  \nMonday – Friday\, June 22 – 26 \n  \nIn this hands-on cooking camp with Katie Blauser from Eat Pretty Darling\, budding chefs will learn how to transform freshly harvested ingredients into delicious\, simple dishes that celebrate the season. From garden to plate\, participants will explore where their food comes from\, practice basic cooking skills and enjoy tasting the vibrant flavors of local summer harvests. Please note: all major food allergens could be present in this camp. \n  \nRegistration deadline: Sunday\, June 14
URL:https://cwpd.org/event/garden-to-table-cooking-camp/
LOCATION:Grant Park\, Kennard Nature Nook\, 6588 McEwen Rd.\, Centerville\, OH\, 45459\, United States
CATEGORIES:Homepage
ATTACH;FMTTYPE=image/jpeg:https://cwpd.org/wp-content/uploads/2026/01/Eat_Pretty_Darling_120x120.jpg
END:VEVENT
END:VCALENDAR