BEGIN:VCALENDAR
VERSION:2.0
PRODID:-//Centerville-Washington Park District - ECPv6.0.12//NONSGML v1.0//EN
CALSCALE:GREGORIAN
METHOD:PUBLISH
X-WR-CALNAME:Centerville-Washington Park District
X-ORIGINAL-URL:https://cwpd.org
X-WR-CALDESC:Events for Centerville-Washington Park District
REFRESH-INTERVAL;VALUE=DURATION:PT1H
X-Robots-Tag:noindex
X-PUBLISHED-TTL:PT1H
BEGIN:VTIMEZONE
TZID:America/New_York
BEGIN:DAYLIGHT
TZOFFSETFROM:-0500
TZOFFSETTO:-0400
TZNAME:EDT
DTSTART:20250309T070000
END:DAYLIGHT
BEGIN:STANDARD
TZOFFSETFROM:-0400
TZOFFSETTO:-0500
TZNAME:EST
DTSTART:20251102T060000
END:STANDARD
END:VTIMEZONE
BEGIN:VEVENT
DTSTART;TZID=America/New_York:20250909T103000
DTEND;TZID=America/New_York:20250909T113000
DTSTAMP:20260425T114819
CREATED:20250728T172424Z
LAST-MODIFIED:20250908T123856Z
UID:28486-1757413800-1757417400@cwpd.org
SUMMARY:Gentle Yoga A
DESCRIPTION:Ages 18 and up\nTuesdays\, September 9 – October 14 \n  \nJoin us for a gentler\, more adaptable yoga program. This class will feature additional guidance\, modifications and props to assist in supporting postures and a slower pace. Taught by certified yoga instructor Kathleen Crosby. This is an eight-week session. Please bring a yoga mat and water. \n  \nRegistration deadline: Friday\, September 5
URL:https://cwpd.org/event/gentle-yoga-a/
LOCATION:Grant Park\, Kennard Nature Nook\, 6588 McEwen Rd.\, Centerville\, OH\, 45459\, United States
ATTACH;FMTTYPE=image/jpeg:https://cwpd.org/wp-content/uploads/2024/01/120x120_gentle-yoga-jpg.webp
END:VEVENT
END:VCALENDAR