BEGIN:VCALENDAR
VERSION:2.0
PRODID:-//Centerville-Washington Park District - ECPv6.0.12//NONSGML v1.0//EN
CALSCALE:GREGORIAN
METHOD:PUBLISH
X-WR-CALNAME:Centerville-Washington Park District
X-ORIGINAL-URL:https://cwpd.org
X-WR-CALDESC:Events for Centerville-Washington Park District
REFRESH-INTERVAL;VALUE=DURATION:PT1H
X-Robots-Tag:noindex
X-PUBLISHED-TTL:PT1H
BEGIN:VTIMEZONE
TZID:America/New_York
BEGIN:DAYLIGHT
TZOFFSETFROM:-0500
TZOFFSETTO:-0400
TZNAME:EDT
DTSTART:20250309T070000
END:DAYLIGHT
BEGIN:STANDARD
TZOFFSETFROM:-0400
TZOFFSETTO:-0500
TZNAME:EST
DTSTART:20251102T060000
END:STANDARD
END:VTIMEZONE
BEGIN:VEVENT
DTSTART;TZID=America/New_York:20250731T180000
DTEND;TZID=America/New_York:20250731T193000
DTSTAMP:20260425T163126
CREATED:20250428T181652Z
LAST-MODIFIED:20250718T143203Z
UID:28078-1753984800-1753990200@cwpd.org
SUMMARY:Glass Fusing: Whimsical Garden Décor
DESCRIPTION:Ages 16 and up \n  \nAdd more color to your garden with glass décor. Kathy Woodruff from Busy Beaver will lead participants through the basics of glass fusing. Create two small pieces to stake in your garden. \n  \nRegistration deadline: Sunday\, July 27
URL:https://cwpd.org/event/glass-fusing-whimsical-garden-decor-4/
LOCATION:Activity Center Park\, 221 N. Main St.\, Centerville\, OH\, 45459\, United States
ATTACH;FMTTYPE=image/jpeg:https://cwpd.org/wp-content/uploads/2024/01/120x120-glass-fusing-garden.jpg
END:VEVENT
END:VCALENDAR