BEGIN:VCALENDAR
VERSION:2.0
PRODID:-//Centerville-Washington Park District - ECPv6.0.12//NONSGML v1.0//EN
CALSCALE:GREGORIAN
METHOD:PUBLISH
X-WR-CALNAME:Centerville-Washington Park District
X-ORIGINAL-URL:https://cwpd.org
X-WR-CALDESC:Events for Centerville-Washington Park District
REFRESH-INTERVAL;VALUE=DURATION:PT1H
X-Robots-Tag:noindex
X-PUBLISHED-TTL:PT1H
BEGIN:VTIMEZONE
TZID:America/New_York
BEGIN:DAYLIGHT
TZOFFSETFROM:-0500
TZOFFSETTO:-0400
TZNAME:EDT
DTSTART:20250309T070000
END:DAYLIGHT
BEGIN:STANDARD
TZOFFSETFROM:-0400
TZOFFSETTO:-0500
TZNAME:EST
DTSTART:20251102T060000
END:STANDARD
END:VTIMEZONE
BEGIN:VEVENT
DTSTART;TZID=America/New_York:20251211T180000
DTEND;TZID=America/New_York:20251211T200000
DTSTAMP:20260424T225933
CREATED:20251103T170036Z
LAST-MODIFIED:20251208T114939Z
UID:29138-1765476000-1765483200@cwpd.org
SUMMARY:Glass Fusing: Winter Ornaments
DESCRIPTION:Ages 16 and up \n  \nExercise your creative side while making beautiful fused glass ornaments perfect for gifting or adding to your own holiday décor. Instructor Kathy Woodruff will lead the class in creating three ornaments. Choose from a variety of styles and designs to make each piece uniquely yours. \n  \nRegistration deadline: Sunday\, December 8
URL:https://cwpd.org/event/glass-fusing-winter-ornaments/
LOCATION:Activity Center Park\, 221 N. Main St.\, Centerville\, OH\, 45459\, United States
ATTACH;FMTTYPE=image/jpeg:https://cwpd.org/wp-content/uploads/2019/10/120x120_Glass-Fusing-6.jpg
END:VEVENT
END:VCALENDAR