BEGIN:VCALENDAR
VERSION:2.0
PRODID:-//Centerville-Washington Park District - ECPv6.0.12//NONSGML v1.0//EN
CALSCALE:GREGORIAN
METHOD:PUBLISH
X-WR-CALNAME:Centerville-Washington Park District
X-ORIGINAL-URL:https://cwpd.org
X-WR-CALDESC:Events for Centerville-Washington Park District
REFRESH-INTERVAL;VALUE=DURATION:PT1H
X-Robots-Tag:noindex
X-PUBLISHED-TTL:PT1H
BEGIN:VTIMEZONE
TZID:America/New_York
BEGIN:DAYLIGHT
TZOFFSETFROM:-0500
TZOFFSETTO:-0400
TZNAME:EDT
DTSTART:20250309T070000
END:DAYLIGHT
BEGIN:STANDARD
TZOFFSETFROM:-0400
TZOFFSETTO:-0500
TZNAME:EST
DTSTART:20251102T060000
END:STANDARD
END:VTIMEZONE
BEGIN:VEVENT
DTSTART;TZID=America/New_York:20250907T130000
DTEND;TZID=America/New_York:20250907T143000
DTSTAMP:20260425T115132
CREATED:20250728T145624Z
LAST-MODIFIED:20250901T124504Z
UID:28478-1757250000-1757255400@cwpd.org
SUMMARY:Grandparents Day at the Nook!
DESCRIPTION:All ages with grandparents (suggested for children ages 3 – 12) \n  \nThis Grandparents Day\, we invite you to celebrate with us. Grandkids and their grandparents will gather for an afternoon of nature crafts\, stories in the shade\, an indoor tea party and nature play! One registration per family (5 maximum per family). This program is geared towards grandparents and their grandchildren. \n  \nRegistration deadline: Monday\, September 1
URL:https://cwpd.org/event/grandparents-day-at-the-nook/
LOCATION:Grant Park\, Kennard Nature Nook\, 6588 McEwen Rd.\, Centerville\, OH\, 45459\, United States
ATTACH;FMTTYPE=image/png:https://cwpd.org/wp-content/uploads/2016/11/120x120_intergenerational-series-turkey.png
END:VEVENT
END:VCALENDAR