BEGIN:VCALENDAR
VERSION:2.0
PRODID:-//Centerville-Washington Park District - ECPv6.0.12//NONSGML v1.0//EN
CALSCALE:GREGORIAN
METHOD:PUBLISH
X-WR-CALNAME:Centerville-Washington Park District
X-ORIGINAL-URL:https://cwpd.org
X-WR-CALDESC:Events for Centerville-Washington Park District
REFRESH-INTERVAL;VALUE=DURATION:PT1H
X-Robots-Tag:noindex
X-PUBLISHED-TTL:PT1H
BEGIN:VTIMEZONE
TZID:America/New_York
BEGIN:DAYLIGHT
TZOFFSETFROM:-0500
TZOFFSETTO:-0400
TZNAME:EDT
DTSTART:20250309T070000
END:DAYLIGHT
BEGIN:STANDARD
TZOFFSETFROM:-0400
TZOFFSETTO:-0500
TZNAME:EST
DTSTART:20251102T060000
END:STANDARD
END:VTIMEZONE
BEGIN:VEVENT
DTSTART;TZID=America/New_York:20250821T180000
DTEND;TZID=America/New_York:20250821T190000
DTSTAMP:20260425T132904
CREATED:20250425T184705Z
LAST-MODIFIED:20250812T143932Z
UID:28131-1755799200-1755802800@cwpd.org
SUMMARY:Hungry Caterpillars
DESCRIPTION:Ages 3 – 6 \n  \nIntroducing young learners to the fascinating life cycle of moths! Through interactive storytelling\, hands-on activities\, and a creative craft\, children will explore the journey of a caterpillar as it transforms into a beautiful moth. They’ll also learn about the importance of caterpillars and moths in our ecosystem. This is a Tools to Trek program. \n  \nRegistration deadline: Tuesday\, August 19
URL:https://cwpd.org/event/hungry-caterpillars/
LOCATION:Pleasant Hill Park\, 358 Zengel Dr. \, Centerville\, OH\, 45459\, United States
ATTACH;FMTTYPE=image/jpeg:https://cwpd.org/wp-content/uploads/2020/01/120x120_preschool_nature_series_caterpillar_parade.jpg
END:VEVENT
END:VCALENDAR