BEGIN:VCALENDAR
VERSION:2.0
PRODID:-//Centerville-Washington Park District - ECPv6.0.12//NONSGML v1.0//EN
CALSCALE:GREGORIAN
METHOD:PUBLISH
X-WR-CALNAME:Centerville-Washington Park District
X-ORIGINAL-URL:https://cwpd.org
X-WR-CALDESC:Events for Centerville-Washington Park District
REFRESH-INTERVAL;VALUE=DURATION:PT1H
X-Robots-Tag:noindex
X-PUBLISHED-TTL:PT1H
BEGIN:VTIMEZONE
TZID:America/New_York
BEGIN:DAYLIGHT
TZOFFSETFROM:-0500
TZOFFSETTO:-0400
TZNAME:EDT
DTSTART:20260308T070000
END:DAYLIGHT
BEGIN:STANDARD
TZOFFSETFROM:-0400
TZOFFSETTO:-0500
TZNAME:EST
DTSTART:20261101T060000
END:STANDARD
END:VTIMEZONE
BEGIN:VEVENT
DTSTART;TZID=America/New_York:20260112T173000
DTEND;TZID=America/New_York:20260112T183000
DTSTAMP:20260424T194341
CREATED:20251031T192538Z
LAST-MODIFIED:20260107T115539Z
UID:29216-1768239000-1768242600@cwpd.org
SUMMARY:Imagination Crew - Nature Play!
DESCRIPTION:Ages 3 – 6 \n  \nThere is so much to be learned through nature play\, but it’s tough when the weather turns chilly. This indoor program welcomes young naturalists to a world of imaginative play\, all themed around nature. Each month will feature a different topic! In January\, we will dive into learning about bugs and insects through play. \n  \nRegistration deadline: Wednesday\, January 7
URL:https://cwpd.org/event/imagination-crew-nature-play-2/
LOCATION:Grant Park\, Kennard Nature Nook\, 6588 McEwen Rd.\, Centerville\, OH\, 45459\, United States
ATTACH;FMTTYPE=image/jpeg:https://cwpd.org/wp-content/uploads/2020/01/Art-and-Imagination-3.jpg
END:VEVENT
END:VCALENDAR