BEGIN:VCALENDAR
VERSION:2.0
PRODID:-//Centerville-Washington Park District - ECPv6.0.12//NONSGML v1.0//EN
CALSCALE:GREGORIAN
METHOD:PUBLISH
X-WR-CALNAME:Centerville-Washington Park District
X-ORIGINAL-URL:https://cwpd.org
X-WR-CALDESC:Events for Centerville-Washington Park District
REFRESH-INTERVAL;VALUE=DURATION:PT1H
X-Robots-Tag:noindex
X-PUBLISHED-TTL:PT1H
BEGIN:VTIMEZONE
TZID:America/New_York
BEGIN:DAYLIGHT
TZOFFSETFROM:-0500
TZOFFSETTO:-0400
TZNAME:EDT
DTSTART:20260308T070000
END:DAYLIGHT
BEGIN:STANDARD
TZOFFSETFROM:-0400
TZOFFSETTO:-0500
TZNAME:EST
DTSTART:20261101T060000
END:STANDARD
END:VTIMEZONE
BEGIN:VEVENT
DTSTART;TZID=America/New_York:20260228T110000
DTEND;TZID=America/New_York:20260228T120000
DTSTAMP:20260424T162312
CREATED:20251103T185119Z
LAST-MODIFIED:20260227T155353Z
UID:29314-1772276400-1772280000@cwpd.org
SUMMARY:Injury Prevention Workshop with Airrosti
DESCRIPTION:Ages 16 and up (under 18 requires adult companion) \n  \nAirrosti’s Adelle Scott\, Sr. Recovery Specialist\, will teach you how to manage\, reduce and eliminate musculoskeletal pain through preventative self-myofascial release techniques using a foam roller\, lacrosse ball and banded exercises. This class will focus on injury prevention. Any additional follow-up or inquiries on the advice given will need to be conducted with Airrosti directly. CWPD cannot provide any advice on further steps in treatment planning. \n  \nRegistration deadline: Friday\, February 27
URL:https://cwpd.org/event/injury-prevention-workshop-with-airrosti/
LOCATION:Activity Center Park\, 221 N. Main St.\, Centerville\, OH\, 45459\, United States
ATTACH;FMTTYPE=image/png:https://cwpd.org/wp-content/uploads/2025/01/FoamRoller_120x120.png
END:VEVENT
END:VCALENDAR