BEGIN:VCALENDAR
VERSION:2.0
PRODID:-//Centerville-Washington Park District - ECPv6.0.12//NONSGML v1.0//EN
CALSCALE:GREGORIAN
METHOD:PUBLISH
X-WR-CALNAME:Centerville-Washington Park District
X-ORIGINAL-URL:https://cwpd.org
X-WR-CALDESC:Events for Centerville-Washington Park District
REFRESH-INTERVAL;VALUE=DURATION:PT1H
X-Robots-Tag:noindex
X-PUBLISHED-TTL:PT1H
BEGIN:VTIMEZONE
TZID:America/New_York
BEGIN:DAYLIGHT
TZOFFSETFROM:-0500
TZOFFSETTO:-0400
TZNAME:EDT
DTSTART:20250309T070000
END:DAYLIGHT
BEGIN:STANDARD
TZOFFSETFROM:-0400
TZOFFSETTO:-0500
TZNAME:EST
DTSTART:20251102T060000
END:STANDARD
END:VTIMEZONE
BEGIN:VEVENT
DTSTART;TZID=America/New_York:20250808T203000
DTEND;TZID=America/New_York:20250808T213000
DTSTAMP:20260425T145407
CREATED:20250428T160803Z
LAST-MODIFIED:20250806T131108Z
UID:28112-1754685000-1754688600@cwpd.org
SUMMARY:Insectigations (Insects at Night!)
DESCRIPTION:All ages \n  \nInsects have important jobs in the ecosystem\, and some work the night shift! We will hike through the forest and meadow\, comparing the insects we find in each place. Don’t forget to bring a flashlight! There will be a limited supply of flashlights to borrow if needed. This is a Tools to Trek Program. \n  \nRegistration deadline: Wednesday\, August 6
URL:https://cwpd.org/event/insectigations-insects-at-night/
LOCATION:Bill Yeck Park\, Smith House\, 2230 E. Centerville Station Road\, Centerville\, OH\, 45459\, United States
ATTACH;FMTTYPE=image/png:https://cwpd.org/wp-content/uploads/2021/01/120x120_pill-bug_doodle-bug_potato-bug.png
END:VEVENT
END:VCALENDAR