BEGIN:VCALENDAR
VERSION:2.0
PRODID:-//Centerville-Washington Park District - ECPv6.0.12//NONSGML v1.0//EN
CALSCALE:GREGORIAN
METHOD:PUBLISH
X-WR-CALNAME:Centerville-Washington Park District
X-ORIGINAL-URL:https://cwpd.org
X-WR-CALDESC:Events for Centerville-Washington Park District
REFRESH-INTERVAL;VALUE=DURATION:PT1H
X-Robots-Tag:noindex
X-PUBLISHED-TTL:PT1H
BEGIN:VTIMEZONE
TZID:America/New_York
BEGIN:DAYLIGHT
TZOFFSETFROM:-0500
TZOFFSETTO:-0400
TZNAME:EDT
DTSTART:20260308T070000
END:DAYLIGHT
BEGIN:STANDARD
TZOFFSETFROM:-0400
TZOFFSETTO:-0500
TZNAME:EST
DTSTART:20261101T060000
END:STANDARD
END:VTIMEZONE
BEGIN:VEVENT
DTSTART;TZID=America/New_York:20260622T130000
DTEND;TZID=America/New_York:20260622T160000
DTSTAMP:20260422T010941
CREATED:20260211T195751Z
LAST-MODIFIED:20260211T195751Z
UID:29976-1782133200-1782144000@cwpd.org
SUMMARY:Junior ACtivity Squad Camp Week 4
DESCRIPTION:Dino Digging and Daring Discoveries\nAges 5 – 7 \n  \nMonday\, June 22 – Friday\, June 26 \n  \nCalling our junior paleontologists! Dinos have been found in Activity Center Park! Let’s get digging and investigate the mystery of these giant creatures. Don’t forget your detective hats and magnifying glasses! What will we discover? Please dress in old clothing\, and we will provide aprons for especially messy crafts. \n  \nRegistration deadline: Monday\, June 15
URL:https://cwpd.org/event/junior-activity-squad-camp-week-4/
LOCATION:Activity Center Park\, 221 N. Main St.\, Centerville\, OH\, 45459\, United States
CATEGORIES:Homepage
ATTACH;FMTTYPE=image/jpeg:https://cwpd.org/wp-content/uploads/2024/02/activitysquad_120x120-jpg.webp
END:VEVENT
END:VCALENDAR