BEGIN:VCALENDAR
VERSION:2.0
PRODID:-//Centerville-Washington Park District - ECPv6.0.12//NONSGML v1.0//EN
CALSCALE:GREGORIAN
METHOD:PUBLISH
X-WR-CALNAME:Centerville-Washington Park District
X-ORIGINAL-URL:https://cwpd.org
X-WR-CALDESC:Events for Centerville-Washington Park District
REFRESH-INTERVAL;VALUE=DURATION:PT1H
X-Robots-Tag:noindex
X-PUBLISHED-TTL:PT1H
BEGIN:VTIMEZONE
TZID:America/New_York
BEGIN:DAYLIGHT
TZOFFSETFROM:-0500
TZOFFSETTO:-0400
TZNAME:EDT
DTSTART:20260308T070000
END:DAYLIGHT
BEGIN:STANDARD
TZOFFSETFROM:-0400
TZOFFSETTO:-0500
TZNAME:EST
DTSTART:20261101T060000
END:STANDARD
END:VTIMEZONE
BEGIN:VEVENT
DTSTART;TZID=America/New_York:20260629T090000
DTEND;TZID=America/New_York:20260629T120000
DTSTAMP:20260422T010700
CREATED:20260211T195903Z
LAST-MODIFIED:20260211T195903Z
UID:29982-1782723600-1782734400@cwpd.org
SUMMARY:Junior ACtivity Squad Camp Week 5
DESCRIPTION:Junior Color Battles: Active Art and Vibrant Adventures\nAges 4 – 6 \n  \nMonday\, June 29 – Thursday\, July 2 \n  \nJoin us for a week of our favorite messy\, colorful\, artistic projects! From splatter painting to active artwork to process art\, this week is full of it all! “Hues” going to join us? Please dress in old clothing\, and we will provide aprons for especially messy crafts. \n  \nRegistration deadline: Monday\, June 22
URL:https://cwpd.org/event/junior-activity-squad-camp-week-5/
LOCATION:Activity Center Park\, 221 N. Main St.\, Centerville\, OH\, 45459\, United States
CATEGORIES:Homepage
ATTACH;FMTTYPE=image/jpeg:https://cwpd.org/wp-content/uploads/2024/02/120x120-activity-squad-camp.jpg
END:VEVENT
END:VCALENDAR