BEGIN:VCALENDAR
VERSION:2.0
PRODID:-//Centerville-Washington Park District - ECPv6.0.12//NONSGML v1.0//EN
CALSCALE:GREGORIAN
METHOD:PUBLISH
X-WR-CALNAME:Centerville-Washington Park District
X-ORIGINAL-URL:https://cwpd.org
X-WR-CALDESC:Events for Centerville-Washington Park District
REFRESH-INTERVAL;VALUE=DURATION:PT1H
X-Robots-Tag:noindex
X-PUBLISHED-TTL:PT1H
BEGIN:VTIMEZONE
TZID:America/New_York
BEGIN:DAYLIGHT
TZOFFSETFROM:-0500
TZOFFSETTO:-0400
TZNAME:EDT
DTSTART:20250309T070000
END:DAYLIGHT
BEGIN:STANDARD
TZOFFSETFROM:-0400
TZOFFSETTO:-0500
TZNAME:EST
DTSTART:20251102T060000
END:STANDARD
END:VTIMEZONE
BEGIN:VEVENT
DTSTART;TZID=America/New_York:20250712T110000
DTEND;TZID=America/New_York:20250712T120000
DTSTAMP:20260425T180834
CREATED:20250430T160220Z
LAST-MODIFIED:20250710T104109Z
UID:28022-1752318000-1752321600@cwpd.org
SUMMARY:Lacrosse Ball/Foam Rolling Clinic
DESCRIPTION:Ages 16 and up (under 18 requires adult companion) \n  \nAirrosti’s Dr. Steven Miller and Adelle will teach you how to manage\, reduce and eliminate musculoskeletal pain through preventative self-myofascial release techniques using a foam roller and lacrosse ball. If you have a foam roller\, lacrosse ball or mat\, please bring them with you. There will be a limited supply of foam rollers and lacrosse balls on hand to use. \n  \nRegistration deadline: Thursday\, July 10
URL:https://cwpd.org/event/lacrosse-ball-foam-rolling-clinic-5/
LOCATION:Activity Center Park\, 221 N. Main St.\, Centerville\, OH\, 45459\, United States
ATTACH;FMTTYPE=image/png:https://cwpd.org/wp-content/uploads/2025/01/FoamRoller_120x120.png
END:VEVENT
END:VCALENDAR