BEGIN:VCALENDAR
VERSION:2.0
PRODID:-//Centerville-Washington Park District - ECPv6.0.12//NONSGML v1.0//EN
CALSCALE:GREGORIAN
METHOD:PUBLISH
X-WR-CALNAME:Centerville-Washington Park District
X-ORIGINAL-URL:https://cwpd.org
X-WR-CALDESC:Events for Centerville-Washington Park District
REFRESH-INTERVAL;VALUE=DURATION:PT1H
X-Robots-Tag:noindex
X-PUBLISHED-TTL:PT1H
BEGIN:VTIMEZONE
TZID:America/New_York
BEGIN:DAYLIGHT
TZOFFSETFROM:-0500
TZOFFSETTO:-0400
TZNAME:EDT
DTSTART:20260308T070000
END:DAYLIGHT
BEGIN:STANDARD
TZOFFSETFROM:-0400
TZOFFSETTO:-0500
TZNAME:EST
DTSTART:20261101T060000
END:STANDARD
END:VTIMEZONE
BEGIN:VEVENT
DTSTART;TZID=America/New_York:20260114T180000
DTEND;TZID=America/New_York:20260114T190000
DTSTAMP:20260424T195149
CREATED:20251103T180938Z
LAST-MODIFIED:20260114T201744Z
UID:29222-1768413600-1768417200@cwpd.org
SUMMARY:Little Flowers in Our Prairies
DESCRIPTION:Ages 18 and up \n  \nA CWPD naturalist will present on native prairie species and discuss how they benefit our local pollinators. Participants will receive a small amount of native wildflower seeds to add to their own gardens. This event is co-sponsored by the Centerville-Washington Park District and the Washington-Centerville Public Library. \n  \nRegistration for this program is requested and will be available through the library beginning December 14.
URL:https://cwpd.org/event/little-flowers-in-our-prairies/
LOCATION:Woodbourne Library\, 6060 Far Hills Avenue\, Centerville\, OH\, 45459
ATTACH;FMTTYPE=image/png:https://cwpd.org/wp-content/uploads/2021/01/120x120-seed-nursery.png
END:VEVENT
END:VCALENDAR