BEGIN:VCALENDAR
VERSION:2.0
PRODID:-//Centerville-Washington Park District - ECPv6.0.12//NONSGML v1.0//EN
CALSCALE:GREGORIAN
METHOD:PUBLISH
X-WR-CALNAME:Centerville-Washington Park District
X-ORIGINAL-URL:https://cwpd.org
X-WR-CALDESC:Events for Centerville-Washington Park District
REFRESH-INTERVAL;VALUE=DURATION:PT1H
X-Robots-Tag:noindex
X-PUBLISHED-TTL:PT1H
BEGIN:VTIMEZONE
TZID:America/New_York
BEGIN:DAYLIGHT
TZOFFSETFROM:-0500
TZOFFSETTO:-0400
TZNAME:EDT
DTSTART:20250309T070000
END:DAYLIGHT
BEGIN:STANDARD
TZOFFSETFROM:-0400
TZOFFSETTO:-0500
TZNAME:EST
DTSTART:20251102T060000
END:STANDARD
END:VTIMEZONE
BEGIN:VEVENT
DTSTART;TZID=America/New_York:20251212T183000
DTEND;TZID=America/New_York:20251212T203000
DTSTAMP:20260424T225233
CREATED:20251031T151709Z
LAST-MODIFIED:20251213T183732Z
UID:29142-1765564200-1765571400@cwpd.org
SUMMARY:Luminary Walk
DESCRIPTION:All ages \n  \nEnjoy a candlelit stroll through Bill Yeck Park. There will be a half-mile paved route and a one-mile route along the purple trail. Warm up by the John Meyer II Memorial Fire Circle and enjoy the sounds of the season with carols from Centerville High School’s symphonic choir! Free hot chocolate at the Forest Field shelter while supplies last! Please bring a school supply item to support Crayons to Classroom‘s mission to secure and distribute school supplies at no cost to teachers of students in need. \n  \nRegistration is requested but not required.
URL:https://cwpd.org/event/luminary-walk/
LOCATION:Forest Field Park\, 2100 E. Centerville Station Rd.\, Centerville\, OH\, 45459\, United States
ATTACH;FMTTYPE=image/png:https://cwpd.org/wp-content/uploads/2020/10/luminary-walk-120x120-1.png
END:VEVENT
END:VCALENDAR