BEGIN:VCALENDAR
VERSION:2.0
PRODID:-//Centerville-Washington Park District - ECPv6.0.12//NONSGML v1.0//EN
CALSCALE:GREGORIAN
METHOD:PUBLISH
X-WR-CALNAME:Centerville-Washington Park District
X-ORIGINAL-URL:https://cwpd.org
X-WR-CALDESC:Events for Centerville-Washington Park District
REFRESH-INTERVAL;VALUE=DURATION:PT1H
X-Robots-Tag:noindex
X-PUBLISHED-TTL:PT1H
BEGIN:VTIMEZONE
TZID:America/New_York
BEGIN:DAYLIGHT
TZOFFSETFROM:-0500
TZOFFSETTO:-0400
TZNAME:EDT
DTSTART:20250309T070000
END:DAYLIGHT
BEGIN:STANDARD
TZOFFSETFROM:-0400
TZOFFSETTO:-0500
TZNAME:EST
DTSTART:20251102T060000
END:STANDARD
END:VTIMEZONE
BEGIN:VEVENT
DTSTART;TZID=America/New_York:20250731T180000
DTEND;TZID=America/New_York:20250731T200000
DTSTAMP:20260425T162919
CREATED:20250428T160606Z
LAST-MODIFIED:20250729T193007Z
UID:28080-1753984800-1753992000@cwpd.org
SUMMARY:Mini Evening Campout
DESCRIPTION:All ages \n  \nLearn family fun camping skills — how to set up a tent\, start a campfire to toast the best marshmallows\, what sticks are best to cook with over an open fire\, and other useful things to know before heading out! Also\, learn the best things to bring with you! \n  \nRegistration deadline: Tuesday\, July 29
URL:https://cwpd.org/event/mini-evening-campout/
LOCATION:Bill Yeck Park\, Smith House\, 2230 E. Centerville Station Road\, Centerville\, OH\, 45459\, United States
ATTACH;FMTTYPE=image/jpeg:https://cwpd.org/wp-content/uploads/2018/10/120x120_campfire_programs_centerville_ohio-1.jpg
END:VEVENT
END:VCALENDAR