BEGIN:VCALENDAR
VERSION:2.0
PRODID:-//Centerville-Washington Park District - ECPv6.0.12//NONSGML v1.0//EN
CALSCALE:GREGORIAN
METHOD:PUBLISH
X-WR-CALNAME:Centerville-Washington Park District
X-ORIGINAL-URL:https://cwpd.org
X-WR-CALDESC:Events for Centerville-Washington Park District
REFRESH-INTERVAL;VALUE=DURATION:PT1H
X-Robots-Tag:noindex
X-PUBLISHED-TTL:PT1H
BEGIN:VTIMEZONE
TZID:America/New_York
BEGIN:DAYLIGHT
TZOFFSETFROM:-0500
TZOFFSETTO:-0400
TZNAME:EDT
DTSTART:20250309T070000
END:DAYLIGHT
BEGIN:STANDARD
TZOFFSETFROM:-0400
TZOFFSETTO:-0500
TZNAME:EST
DTSTART:20251102T060000
END:STANDARD
END:VTIMEZONE
BEGIN:VEVENT
DTSTART;TZID=America/New_York:20250829T170000
DTEND;TZID=America/New_York:20250829T193000
DTSTAMP:20260425T132317
CREATED:20250425T175402Z
LAST-MODIFIED:20250901T124347Z
UID:28147-1756486800-1756495800@cwpd.org
SUMMARY:National Dog Day!
DESCRIPTION:All ages (must be 8+ to go in the dog park) \n  \nThis year’s National Dog Day celebration is doggy day camp-themed! Make crafts\, play water games\, socialize with other dogs (and owners) and enjoy a dog-friendly camp-themed treat spread. You might even walk away with a doggy day camp prize for your dog (available while supplies last). \n  \nPlease review the dog park rules before attending. All dogs must be on a leash when entering and leaving the dog park. Children must be 8+ years old to enter the off-leash area.
URL:https://cwpd.org/event/national-dog-day/
LOCATION:Oak Grove Park\, 1790 E. Social Row Rd.\, Centerville\, OH\, 45458\, United States
ATTACH;FMTTYPE=image/png:https://cwpd.org/wp-content/uploads/2019/05/120x120_dog-park.png
END:VEVENT
END:VCALENDAR