BEGIN:VCALENDAR
VERSION:2.0
PRODID:-//Centerville-Washington Park District - ECPv6.0.12//NONSGML v1.0//EN
CALSCALE:GREGORIAN
METHOD:PUBLISH
X-WR-CALNAME:Centerville-Washington Park District
X-ORIGINAL-URL:https://cwpd.org
X-WR-CALDESC:Events for Centerville-Washington Park District
REFRESH-INTERVAL;VALUE=DURATION:PT1H
X-Robots-Tag:noindex
X-PUBLISHED-TTL:PT1H
BEGIN:VTIMEZONE
TZID:America/New_York
BEGIN:DAYLIGHT
TZOFFSETFROM:-0500
TZOFFSETTO:-0400
TZNAME:EDT
DTSTART:20250309T070000
END:DAYLIGHT
BEGIN:STANDARD
TZOFFSETFROM:-0400
TZOFFSETTO:-0500
TZNAME:EST
DTSTART:20251102T060000
END:STANDARD
END:VTIMEZONE
BEGIN:VEVENT
DTSTART;TZID=America/New_York:20250712T100000
DTEND;TZID=America/New_York:20250712T113000
DTSTAMP:20260425T181313
CREATED:20250428T191929Z
LAST-MODIFIED:20250705T214121Z
UID:28019-1752314400-1752319800@cwpd.org
SUMMARY:Past and Present: Grant Park and Normandy Farms
DESCRIPTION:Ages 16 and up \n  \nJoin history experts and CWPD for a look at Grant Park’s Normandy Entrance\, past and present. After a presentation on the area’s history featuring Richard H. Grant and Normandy Farms\, we will take a short hike to view the remnants of the past mixed with the present natural environment. The hike is on a natural trail with some inclines. \n  \nRegistration deadline: Thursday\, July 10
URL:https://cwpd.org/event/past-and-present-grant-park-and-normandy-farms/
LOCATION:Grant Park\, 501 Normandy Ridge Rd.\, Centerville\, OH\, United States
ATTACH;FMTTYPE=image/jpeg:https://cwpd.org/wp-content/uploads/2025/04/NormandyFarms_120x120.jpg
END:VEVENT
END:VCALENDAR