BEGIN:VCALENDAR
VERSION:2.0
PRODID:-//Centerville-Washington Park District - ECPv6.0.12//NONSGML v1.0//EN
CALSCALE:GREGORIAN
METHOD:PUBLISH
X-WR-CALNAME:Centerville-Washington Park District
X-ORIGINAL-URL:https://cwpd.org
X-WR-CALDESC:Events for Centerville-Washington Park District
REFRESH-INTERVAL;VALUE=DURATION:PT1H
X-Robots-Tag:noindex
X-PUBLISHED-TTL:PT1H
BEGIN:VTIMEZONE
TZID:America/New_York
BEGIN:DAYLIGHT
TZOFFSETFROM:-0500
TZOFFSETTO:-0400
TZNAME:EDT
DTSTART:20250309T070000
END:DAYLIGHT
BEGIN:STANDARD
TZOFFSETFROM:-0400
TZOFFSETTO:-0500
TZNAME:EST
DTSTART:20251102T060000
END:STANDARD
END:VTIMEZONE
BEGIN:VEVENT
DTSTART;TZID=America/New_York:20250624T180000
DTEND;TZID=America/New_York:20250624T190000
DTSTAMP:20260425T212656
CREATED:20250430T143645Z
LAST-MODIFIED:20250714T130428Z
UID:27953-1750788000-1750791600@cwpd.org
SUMMARY:Pickleball League Mixed Doubles Intermediate A
DESCRIPTION:Ages 18 and up\nTuesdays\, June 24 – July 29 \n  \nJoin a Park District pickleball league and play pickleball in the parks this summer! All leagues are 6 weeks long. Six Franklin X-40 pickleballs per team are included and can be picked up from Park District Headquarters prior to league play. Please note\, this is a league designed for players with a strong understanding of pickleball rules\, and who are at an intermediate level of competition. No instruction/lessons are included in the league. \n  \nRegistration deadline: Sunday\, June 8
URL:https://cwpd.org/event/pickleball-league-mixed-doubles-intermediate-a-tue-2/
LOCATION:Activity Center Park\, 221 N. Main St.\, Centerville\, OH\, 45459\, United States
ATTACH;FMTTYPE=image/jpeg:https://cwpd.org/wp-content/uploads/pickleball_120x120.jpg
END:VEVENT
END:VCALENDAR