BEGIN:VCALENDAR
VERSION:2.0
PRODID:-//Centerville-Washington Park District - ECPv6.0.12//NONSGML v1.0//EN
CALSCALE:GREGORIAN
METHOD:PUBLISH
X-WR-CALNAME:Centerville-Washington Park District
X-ORIGINAL-URL:https://cwpd.org
X-WR-CALDESC:Events for Centerville-Washington Park District
REFRESH-INTERVAL;VALUE=DURATION:PT1H
X-Robots-Tag:noindex
X-PUBLISHED-TTL:PT1H
BEGIN:VTIMEZONE
TZID:America/New_York
BEGIN:DAYLIGHT
TZOFFSETFROM:-0500
TZOFFSETTO:-0400
TZNAME:EDT
DTSTART:20250309T070000
END:DAYLIGHT
BEGIN:STANDARD
TZOFFSETFROM:-0400
TZOFFSETTO:-0500
TZNAME:EST
DTSTART:20251102T060000
END:STANDARD
END:VTIMEZONE
BEGIN:VEVENT
DTSTART;TZID=America/New_York:20251218T180000
DTEND;TZID=America/New_York:20251218T190000
DTSTAMP:20260424T225513
CREATED:20251031T191318Z
LAST-MODIFIED:20251217T114931Z
UID:29162-1766080800-1766084400@cwpd.org
SUMMARY:Preschool Nature Series: HiBEARnation
DESCRIPTION:Ages 3 – 5 with adult companion \n  \nBring your favorite teddy bear and we will learn how their wild counterparts\, black bears\, spend the year. We will then venture outdoors and take a short walk on the paved path. This is a Tools to Trek program. \n  \nRegistration deadline: Tuesday\, December 16
URL:https://cwpd.org/event/preschool-nature-series-hibearnation/
LOCATION:Grant Park\, Kennard Nature Nook\, 6588 McEwen Rd.\, Centerville\, OH\, 45459\, United States
ATTACH;FMTTYPE=image/png:https://cwpd.org/wp-content/uploads/2018/10/120x120_preschool-nature-series-winter.png
END:VEVENT
END:VCALENDAR