BEGIN:VCALENDAR
VERSION:2.0
PRODID:-//Centerville-Washington Park District - ECPv6.0.12//NONSGML v1.0//EN
CALSCALE:GREGORIAN
METHOD:PUBLISH
X-WR-CALNAME:Centerville-Washington Park District
X-ORIGINAL-URL:https://cwpd.org
X-WR-CALDESC:Events for Centerville-Washington Park District
REFRESH-INTERVAL;VALUE=DURATION:PT1H
X-Robots-Tag:noindex
X-PUBLISHED-TTL:PT1H
BEGIN:VTIMEZONE
TZID:America/New_York
BEGIN:DAYLIGHT
TZOFFSETFROM:-0500
TZOFFSETTO:-0400
TZNAME:EDT
DTSTART:20260308T070000
END:DAYLIGHT
BEGIN:STANDARD
TZOFFSETFROM:-0400
TZOFFSETTO:-0500
TZNAME:EST
DTSTART:20261101T060000
END:STANDARD
END:VTIMEZONE
BEGIN:VEVENT
DTSTART;TZID=America/New_York:20260629T090000
DTEND;TZID=America/New_York:20260629T120000
DTSTAMP:20260422T011112
CREATED:20260210T154052Z
LAST-MODIFIED:20260210T154052Z
UID:29986-1782723600-1782734400@cwpd.org
SUMMARY:Recreation Day Camp: Week 5\, Iron Horse
DESCRIPTION:Slime & Splash\nAges 5 – 11 \n  \nMonday – Friday\, June 29 – July 2\, No camp on Friday\, July 3 \n  \nThings are about to get slimy\, squishy and soaked! Campers will dive into a week full of gooey slime experiments and playful water games. From mixing up colorful slime creations to cooling off with splashing challenges\, this camp is all about messy fun and staying cool under the sun! \n  \nRegistration deadline: Monday\, June 22
URL:https://cwpd.org/event/recreation-day-camp-week-5-iron-horse/
LOCATION:Iron Horse Park\, 6161 Millshire Dr.\, Centerville\, OH\, 45459\, United States
CATEGORIES:Homepage
ATTACH;FMTTYPE=image/png:https://cwpd.org/wp-content/uploads/2019/03/120x120_summer-recreation-program.png
END:VEVENT
END:VCALENDAR