BEGIN:VCALENDAR
VERSION:2.0
PRODID:-//Centerville-Washington Park District - ECPv6.0.12//NONSGML v1.0//EN
CALSCALE:GREGORIAN
METHOD:PUBLISH
X-WR-CALNAME:Centerville-Washington Park District
X-ORIGINAL-URL:https://cwpd.org
X-WR-CALDESC:Events for Centerville-Washington Park District
REFRESH-INTERVAL;VALUE=DURATION:PT1H
X-Robots-Tag:noindex
X-PUBLISHED-TTL:PT1H
BEGIN:VTIMEZONE
TZID:America/New_York
BEGIN:DAYLIGHT
TZOFFSETFROM:-0500
TZOFFSETTO:-0400
TZNAME:EDT
DTSTART:20260308T070000
END:DAYLIGHT
BEGIN:STANDARD
TZOFFSETFROM:-0400
TZOFFSETTO:-0500
TZNAME:EST
DTSTART:20261101T060000
END:STANDARD
END:VTIMEZONE
BEGIN:VEVENT
DTSTART;TZID=America/New_York:20260226T180000
DTEND;TZID=America/New_York:20260226T200000
DTSTAMP:20260424T162614
CREATED:20251103T181911Z
LAST-MODIFIED:20260223T153558Z
UID:29310-1772128800-1772136000@cwpd.org
SUMMARY:Stitch a Sparrow
DESCRIPTION:Ages 14 and up \n  \nLearn about Ohio’s sparrows while creating your cross-stitch keepsake! Participants will choose from three sparrow species commonly found in Ohio and stitch a small pattern while discovering fun facts about them. All supplies are provided. \n  \nRegistration deadline: Monday\, February 23
URL:https://cwpd.org/event/stitch-a-sparrow/
LOCATION:Activity Center Park\, 221 N. Main St.\, Centerville\, OH\, 45459\, United States
ATTACH;FMTTYPE=image/png:https://cwpd.org/wp-content/uploads/2025/01/Embroidery_120x120.png
END:VEVENT
END:VCALENDAR