BEGIN:VCALENDAR
VERSION:2.0
PRODID:-//Centerville-Washington Park District - ECPv6.0.12//NONSGML v1.0//EN
CALSCALE:GREGORIAN
METHOD:PUBLISH
X-WR-CALNAME:Centerville-Washington Park District
X-ORIGINAL-URL:https://cwpd.org
X-WR-CALDESC:Events for Centerville-Washington Park District
REFRESH-INTERVAL;VALUE=DURATION:PT1H
X-Robots-Tag:noindex
X-PUBLISHED-TTL:PT1H
BEGIN:VTIMEZONE
TZID:America/New_York
BEGIN:DAYLIGHT
TZOFFSETFROM:-0500
TZOFFSETTO:-0400
TZNAME:EDT
DTSTART:20260308T070000
END:DAYLIGHT
BEGIN:STANDARD
TZOFFSETFROM:-0400
TZOFFSETTO:-0500
TZNAME:EST
DTSTART:20261101T060000
END:STANDARD
END:VTIMEZONE
BEGIN:VEVENT
DTSTART;TZID=America/New_York:20260601T090000
DTEND;TZID=America/New_York:20260601T160000
DTSTAMP:20260421T212044
CREATED:20260211T192746Z
LAST-MODIFIED:20260211T192746Z
UID:29920-1780304400-1780329600@cwpd.org
SUMMARY:Sugar Valley Day Camp Week 1
DESCRIPTION:Creeks\, Ponds and Puddles\nAges 6 – 12 \n  \nMonday – Friday\, June 1 – 5 \n  \nStart summer off with a splash! Learn all about creeks\, play water-filled games\, and go on adventures to\, and sometimes even through\, the water habitats of Bill Yeck Park! Along the way\, we will learn about the wildlife that call aquatic habitats their homes. \n  \nRegistration deadline: Monday\, May 25
URL:https://cwpd.org/event/sugar-valley-day-camp-week-1/
LOCATION:Bill Yeck Park\, Smith House\, 2230 E. Centerville Station Road\, Centerville\, OH\, 45459\, United States
CATEGORIES:Homepage
ATTACH;FMTTYPE=image/png:https://cwpd.org/wp-content/uploads/2020/03/120x120-sugar-valley-camp-aug-4-2021-by-david-goldstein.png
END:VEVENT
END:VCALENDAR