BEGIN:VCALENDAR
VERSION:2.0
PRODID:-//Centerville-Washington Park District - ECPv6.0.12//NONSGML v1.0//EN
CALSCALE:GREGORIAN
METHOD:PUBLISH
X-WR-CALNAME:Centerville-Washington Park District
X-ORIGINAL-URL:https://cwpd.org
X-WR-CALDESC:Events for Centerville-Washington Park District
REFRESH-INTERVAL;VALUE=DURATION:PT1H
X-Robots-Tag:noindex
X-PUBLISHED-TTL:PT1H
BEGIN:VTIMEZONE
TZID:America/New_York
BEGIN:DAYLIGHT
TZOFFSETFROM:-0500
TZOFFSETTO:-0400
TZNAME:EDT
DTSTART:20260308T070000
END:DAYLIGHT
BEGIN:STANDARD
TZOFFSETFROM:-0400
TZOFFSETTO:-0500
TZNAME:EST
DTSTART:20261101T060000
END:STANDARD
END:VTIMEZONE
BEGIN:VEVENT
DTSTART;TZID=America/New_York:20260615T090000
DTEND;TZID=America/New_York:20260615T160000
DTSTAMP:20260421T231632
CREATED:20260211T193021Z
LAST-MODIFIED:20260211T193021Z
UID:29952-1781514000-1781539200@cwpd.org
SUMMARY:Sugar Valley Day Camp Week 3
DESCRIPTION:Crafty Campers Week\nAges 6 – 12 \n  \nMonday – Friday\, June 15 – 18 (No camp June 19) \n  \nAll the fun of camp with a creative twist! Your camper will enjoy classic camp games while spending extra time creating nature-based crafts\, both big and small. Let’s be inspired together and make some masterpieces we can’t wait to bring home. \n  \nRegistration deadline: Monday\, June 8
URL:https://cwpd.org/event/sugar-valley-day-camp-week-3/
LOCATION:Bill Yeck Park\, Smith House\, 2230 E. Centerville Station Road\, Centerville\, OH\, 45459\, United States
CATEGORIES:Homepage
ATTACH;FMTTYPE=image/png:https://cwpd.org/wp-content/uploads/2020/03/120x120-sugar-valley-camp-aug-4-2021-by-david-goldstein.png
END:VEVENT
END:VCALENDAR