BEGIN:VCALENDAR
VERSION:2.0
PRODID:-//Centerville-Washington Park District - ECPv6.0.12//NONSGML v1.0//EN
CALSCALE:GREGORIAN
METHOD:PUBLISH
X-WR-CALNAME:Centerville-Washington Park District
X-ORIGINAL-URL:https://cwpd.org
X-WR-CALDESC:Events for Centerville-Washington Park District
REFRESH-INTERVAL;VALUE=DURATION:PT1H
X-Robots-Tag:noindex
X-PUBLISHED-TTL:PT1H
BEGIN:VTIMEZONE
TZID:America/New_York
BEGIN:DAYLIGHT
TZOFFSETFROM:-0500
TZOFFSETTO:-0400
TZNAME:EDT
DTSTART:20260308T070000
END:DAYLIGHT
BEGIN:STANDARD
TZOFFSETFROM:-0400
TZOFFSETTO:-0500
TZNAME:EST
DTSTART:20261101T060000
END:STANDARD
END:VTIMEZONE
BEGIN:VEVENT
DTSTART;TZID=America/New_York:20260622T090000
DTEND;TZID=America/New_York:20260622T160000
DTSTAMP:20260422T011338
CREATED:20260211T193555Z
LAST-MODIFIED:20260211T193555Z
UID:29968-1782118800-1782144000@cwpd.org
SUMMARY:Sugar Valley Day Camp Week 4
DESCRIPTION:Survivor (Field Trip Week)\nAges 6 – 12 \n  \nMonday – Friday\, June 22 – 26 \n  \nIt will be a competition all week long! Your camper will play their favorite camp games\, tie-dye team bandanas\, and join in friendly\, competitive outdoor activities. Week 4 campers will meet at Oak Grove Park on one of their camp days to fish\, participate in archery\, and for their grand competition! \n  \nRegistration deadline: Monday\, June 15
URL:https://cwpd.org/event/sugar-valley-day-camp-week-4/
LOCATION:Bill Yeck Park\, Smith House\, 2230 E. Centerville Station Road\, Centerville\, OH\, 45459\, United States
CATEGORIES:Homepage
ATTACH;FMTTYPE=image/jpeg:https://cwpd.org/wp-content/uploads/2020/03/Sugar-Valley-Camp-5.jpg
END:VEVENT
END:VCALENDAR