BEGIN:VCALENDAR
VERSION:2.0
PRODID:-//Centerville-Washington Park District - ECPv6.0.12//NONSGML v1.0//EN
CALSCALE:GREGORIAN
METHOD:PUBLISH
X-WR-CALNAME:Centerville-Washington Park District
X-ORIGINAL-URL:https://cwpd.org
X-WR-CALDESC:Events for Centerville-Washington Park District
REFRESH-INTERVAL;VALUE=DURATION:PT1H
X-Robots-Tag:noindex
X-PUBLISHED-TTL:PT1H
BEGIN:VTIMEZONE
TZID:America/New_York
BEGIN:DAYLIGHT
TZOFFSETFROM:-0500
TZOFFSETTO:-0400
TZNAME:EDT
DTSTART:20250309T070000
END:DAYLIGHT
BEGIN:STANDARD
TZOFFSETFROM:-0400
TZOFFSETTO:-0500
TZNAME:EST
DTSTART:20251102T060000
END:STANDARD
END:VTIMEZONE
BEGIN:VEVENT
DTSTART;TZID=America/New_York:20250629T160000
DTEND;TZID=America/New_York:20250629T173000
DTSTAMP:20260425T194552
CREATED:20250428T155740Z
LAST-MODIFIED:20250627T131352Z
UID:27992-1751212800-1751218200@cwpd.org
SUMMARY:Summer Archery: Family Battles
DESCRIPTION:Ages 8 and up \n  \nWe will learn the basics of archery and will use the skills you learn in a friendly competition against your own family! We will provide all the archery equipment you need for this exciting event. Please register just one family member to reserve your family’s spot. Maximum four people participating per family. All participants must be at least 8 years old. \n  \nRegistration deadline: Monday\, June 23
URL:https://cwpd.org/event/summer-archery-family-battles/
LOCATION:Oak Grove Park\, 1790 E. Social Row Rd.\, Centerville\, OH\, 45458\, United States
ATTACH;FMTTYPE=image/png:https://cwpd.org/wp-content/uploads/2022/01/120x120-girl-archery.png
END:VEVENT
END:VCALENDAR