BEGIN:VCALENDAR
VERSION:2.0
PRODID:-//Centerville-Washington Park District - ECPv6.0.12//NONSGML v1.0//EN
CALSCALE:GREGORIAN
METHOD:PUBLISH
X-WR-CALNAME:Centerville-Washington Park District
X-ORIGINAL-URL:https://cwpd.org
X-WR-CALDESC:Events for Centerville-Washington Park District
REFRESH-INTERVAL;VALUE=DURATION:PT1H
X-Robots-Tag:noindex
X-PUBLISHED-TTL:PT1H
BEGIN:VTIMEZONE
TZID:America/New_York
BEGIN:DAYLIGHT
TZOFFSETFROM:-0500
TZOFFSETTO:-0400
TZNAME:EDT
DTSTART:20250309T070000
END:DAYLIGHT
BEGIN:STANDARD
TZOFFSETFROM:-0400
TZOFFSETTO:-0500
TZNAME:EST
DTSTART:20251102T060000
END:STANDARD
END:VTIMEZONE
BEGIN:VEVENT
DTSTART;TZID=America/New_York:20250729T170000
DTEND;TZID=America/New_York:20250729T190000
DTSTAMP:20260425T163134
CREATED:20250428T192033Z
LAST-MODIFIED:20250718T143118Z
UID:28073-1753808400-1753815600@cwpd.org
SUMMARY:Summer Pressed Flowers
DESCRIPTION:Ages 14 and up \n  \nThis class will begin with an introduction to various flower pressing and preserving methods. After that\, we will press some flowers of our own and make mini art with dried flowers. Participants may choose to add on a wooden flower press for an additional fee if they have not taken this class before. \n  \nRegistration deadline: Friday\, July 22
URL:https://cwpd.org/event/summer-pressed-flowers/
LOCATION:Grant Park\, Kennard Nature Nook\, 6588 McEwen Rd.\, Centerville\, OH\, 45459\, United States
ATTACH;FMTTYPE=image/jpeg:https://cwpd.org/wp-content/uploads/2025/04/PressedFlowers_120x120.jpg
END:VEVENT
END:VCALENDAR