BEGIN:VCALENDAR
VERSION:2.0
PRODID:-//Centerville-Washington Park District - ECPv6.0.12//NONSGML v1.0//EN
CALSCALE:GREGORIAN
METHOD:PUBLISH
X-WR-CALNAME:Centerville-Washington Park District
X-ORIGINAL-URL:https://cwpd.org
X-WR-CALDESC:Events for Centerville-Washington Park District
REFRESH-INTERVAL;VALUE=DURATION:PT1H
X-Robots-Tag:noindex
X-PUBLISHED-TTL:PT1H
BEGIN:VTIMEZONE
TZID:America/New_York
BEGIN:DAYLIGHT
TZOFFSETFROM:-0500
TZOFFSETTO:-0400
TZNAME:EDT
DTSTART:20250309T070000
END:DAYLIGHT
BEGIN:STANDARD
TZOFFSETFROM:-0400
TZOFFSETTO:-0500
TZNAME:EST
DTSTART:20251102T060000
END:STANDARD
END:VTIMEZONE
BEGIN:VEVENT
DTSTART;TZID=America/New_York:20250612T180000
DTEND;TZID=America/New_York:20250612T190000
DTSTAMP:20260425T230432
CREATED:20250425T184406Z
LAST-MODIFIED:20250612T154326Z
UID:27899-1749751200-1749754800@cwpd.org
SUMMARY:Suncatcher Search
DESCRIPTION:Ages 3 – 6 \n  \nWho needs the sun? Why is it so important? How do plants use the sun’s energy? Make suncatchers after learning about the importance of the sun in nature and our daily lives. This is a Tools to Trek Program. \n  \nRegistration deadline: Tuesday\, June 10
URL:https://cwpd.org/event/suncatcher-search/
LOCATION:Yankee Park\, 7500 Yankee St.\, Centerville\, OH\, 45459\, United States
END:VEVENT
END:VCALENDAR